BEGIN:VCALENDAR
VERSION:2.0
PRODID:-//ChamberMaster//Event Calendar 2.0//EN
METHOD:PUBLISH
X-PUBLISHED-TTL:P3D
REFRESH-INTERVAL:P3D
CALSCALE:GREGORIAN
BEGIN:VEVENT
DTSTART:20170422T123000Z
DTEND:20170422T133000Z
X-MICROSOFT-CDO-ALLDAYEVENT:FALSE
SUMMARY:Your Small Business Dream to Reality
DESCRIPTION:Saturday\, April 22 & 29 Your Small Business Dream to Reality\n\n8:30 a.m.\, SCORE at HCDC\, 1776 Mentor Ave.\, Room 160\, Norwood\, OH 45212
X-ALT-DESC;FMTTYPE=text/html:<strong><span style="color:#0A1A1F\;"><span style="font-family:arial\,sans-serif\;"><span style="font-size:10.5pt\;">Saturday\, April 22 &amp\; 29 </span></span></span></strong><span style="color:#0A1A1F\;"><span style="font-family:arial\,sans-serif\;"><span style="font-size:10.5pt\;"><a href="http://links.govdelivery.com:80/track?type=click&amp\;enid=ZWFzPTEmbWFpbGluZ2lkPTIwMTcwNDA0LjcxODkzMTExJm1lc3NhZ2VpZD1NREItUFJELUJVTC0yMDE3MDQwNC43MTg5MzExMSZkYXRhYmFzZWlkPTEwMDEmc2VyaWFsPTE3MTMxMzY1JmVtYWlsaWQ9cHJvZ3JhbXNAa25veGNoYW1iZXIuY29tJnVzZXJpZD1wcm9ncmFtc0Brbm94Y2hhbWJlci5jb20mZmw9JmV4dHJhPU11bHRpdmFyaWF0ZUlkPSYmJg==&amp\;&amp\;&amp\;128&amp\;&amp\;&amp\;https://events.r20.constantcontact.com/register/event\;jsessionid=2EEBC472F42036C54DECB5335272AEA4?llr=qqpqq8bab&amp\;oeidk=a07edylrkhf3b659aea&amp\;utm_medium=email&amp\;utm_source=govdelivery"><strong>Your Small Business Dream to Reality</strong></a></span></span></span><br />\n<span style="color:#0A1A1F\;"><span style="font-family:arial\,sans-serif\;"><span style="font-size:10.5pt\;">8:30 a.m.\, SCORE at HCDC\, 1776 Mentor Ave.\, Room 160\, Norwood\, OH 45212</span></span></span>
LOCATION:
UID:e.2893.1362
SEQUENCE:3
DTSTAMP:20260423T093945Z
URL:http://knoxchamber.smartcms.site/events/details/your-small-business-dream-to-reality-1362
END:VEVENT

END:VCALENDAR
