BEGIN:VCALENDAR
VERSION:2.0
PRODID:-//ChamberMaster//Event Calendar 2.0//EN
METHOD:PUBLISH
X-PUBLISHED-TTL:P3D
REFRESH-INTERVAL:P3D
CALSCALE:GREGORIAN
BEGIN:VEVENT
DTSTART:20180720T233000Z
DTEND:20180721T010000Z
X-MICROSOFT-CDO-ALLDAYEVENT:FALSE
SUMMARY:Young Artist's Harp Seminar Solo Concert
DESCRIPTION:The Young Artist's Harp Seminar makes its first appearance at Kenyon College this July. Top young harpists from around the world will join a roster of distinguished faculty artists for two weeks of intensive coaching and concerts open to the public. Hear standards of the classical harp repertoire performed in tonight's solo concert.
X-ALT-DESC;FMTTYPE=text/html:The Young Artist&#39\;s Harp Seminar makes its first appearance at Kenyon College this July. Top young harpists from around the world will join a roster of distinguished faculty artists for two weeks of intensive coaching and concerts open to the public. Hear standards of the classical harp repertoire performed in tonight&#39\;s solo concert.
LOCATION:Brandi Recital Hall\, Kenyon College
UID:e.2893.3643
SEQUENCE:3
DTSTAMP:20260422T074947Z
URL:http://knoxchamber.smartcms.site/events/details/young-artist-s-harp-seminar-solo-concert-3643
END:VEVENT

END:VCALENDAR
