BEGIN:VCALENDAR
VERSION:2.0
PRODID:-//ChamberMaster//Event Calendar 2.0//EN
METHOD:PUBLISH
X-PUBLISHED-TTL:P3D
REFRESH-INTERVAL:P3D
CALSCALE:GREGORIAN
BEGIN:VEVENT
DTSTART:20180721T180000Z
DTEND:20180721T193000Z
X-MICROSOFT-CDO-ALLDAYEVENT:FALSE
SUMMARY:Young Artist's Harp Seminar Gala Grand Finale
DESCRIPTION:The Young Artist's Harp Seminar makes its first appearance at Kenyon College this July. Top young harpists from around the world will join a roster of distinguished faculty artists for two weeks of intensive coaching and concerts open to the public. Hear small ensembles\, select solos\, and a combined ensemble of over 40 harps in today's Gala Grand Finale. Meet the artists at a reception to follow.
X-ALT-DESC;FMTTYPE=text/html:The Young Artist&#39\;s Harp Seminar makes its first appearance at Kenyon College this July. Top young harpists from around the world will join a roster of distinguished faculty artists for two weeks of intensive coaching and concerts open to the public. Hear small ensembles\, select solos\, and a combined ensemble of over 40 harps in today&#39\;s Gala Grand Finale. Meet the artists at a reception to follow.
LOCATION:Rosse Auditorium at Kenyon College
UID:e.2893.3644
SEQUENCE:3
DTSTAMP:20260422T061446Z
URL:http://knoxchamber.smartcms.site/events/details/young-artist-s-harp-seminar-gala-grand-finale-3644
END:VEVENT

END:VCALENDAR
