BEGIN:VCALENDAR
VERSION:2.0
PRODID:-//ChamberMaster//Event Calendar 2.0//EN
METHOD:PUBLISH
X-PUBLISHED-TTL:P3D
REFRESH-INTERVAL:P3D
CALSCALE:GREGORIAN
BEGIN:VEVENT
DTSTART:20200219T000000Z
DTEND:20200219T020000Z
X-MICROSOFT-CDO-ALLDAYEVENT:FALSE
SUMMARY:Yellowstone in Winter
DESCRIPTION:Denny Wiegman will take us on a photographic journey of Yellowstone National Park in the winter. He will share stories about wolves\, bison\, elk\, skiing\, photography\, and so much more. Free.
X-ALT-DESC;FMTTYPE=text/html:Denny Wiegman will take us on a photographic journey of Yellowstone National Park in the winter. He will share stories about wolves\, bison\, elk\, skiing\, photography\, and so much more. Free.
LOCATION:BFEC
UID:e.2893.4695
SEQUENCE:3
DTSTAMP:20260420T212527Z
URL:http://knoxchamber.smartcms.site/events/details/yellowstone-in-winter-4695
END:VEVENT

END:VCALENDAR
