BEGIN:VCALENDAR
VERSION:2.0
PRODID:-//ChamberMaster//Event Calendar 2.0//EN
METHOD:PUBLISH
X-PUBLISHED-TTL:P3D
REFRESH-INTERVAL:P3D
CALSCALE:GREGORIAN
BEGIN:VEVENT
DTSTART:20210415T230000Z
DTEND:20210416T003000Z
X-MICROSOFT-CDO-ALLDAYEVENT:FALSE
SUMMARY:Woven Diversity Forum "Can We Heal the Divide"
DESCRIPTION:The Office of Intercultural Life at Mount Vernon Nazarene University is sponsoring the Woven Diversity Forum\, "Can We Heal the Divide\," to discuss diversity and inclusion on April 15.  \n\n \n\n"We believe that diversity\, equity\, and inclusion should not just be a part of who we are but woven into the fabric of who we are\," said Tavaris Taylor\, director of Intercultural Life at MVNU. "We will focus on strategies for healing the racial and social divide in our educational system\, churches\, politics\, and economics." \n\n \n\nSpeakers will include: \n\n \n\nJ. Burner Crew is the Managing Partner at Nirvana Analytics in Cleveland. He earned a bachelor's degree in Econometrics from Columbia University and is currently a Registered Investment Advisor and Municipal Advisor. Crew has worked extensively with officials responsible for municipal finance activities in several states\, municipalities\, colleges\, and school districts. He currently serves on the board of directors of the United Black Fund of Cleveland and is a former founding member of the National Association of Securities Professionals (NASP).   \n\n \n\nDr. Shantelle K. Jenkins is the Assistant Vice President\, School of Graduate and Professional Studies at MVNU. A strong advocate for students and faculty development\, particularly the inclusion and success of students and faculty from historically underrepresented groups\, Jenkins has over two decades of experience in education. Prior to joining MVNU\, she was the director of assessment at Eastern University and most recently\, an instructor in the Educational Policy and Leadership department at Cabrini University.   \n\n \n\nQuentin L. McCorvey Sr.\, principal at Nirvana Analytics in Cleveland\, is an administrator\, strategist\, and community leader with wide range of experiences in governmental\, healthcare\, and nonprofit sectors. He has developed a strong record in communications and community affairs\, strategic planning\, relationship management\, budgeting\, program and policy development and analysis. McCorvey earned a BA in Political Science from Jackson State University (Jackson\, MS) in May 1990. He later earned a master's degree in Public Administration Program from Cleveland State University in June 1997. \n\n \n\nMayor Matthew Starr is in his first term as mayor of the City of Mount Vernon. Originally\, from Indiana\, he graduated from Manchester University and entered graduate school at Kent State University\, where he earned his master's degree in sport psychology. He is currently in a doctoral program specializing in strategic management. He started a corporate film and video production company where he is the executive producer. Starr has served on many non-profit boards and volunteer agencies in the community. \n\n \n\nTaylor who joined MVNU in 2020 and is an experienced business and education professional with a demonstrated history of working in the local government\, NGOs\, and multinational companies. He is skilled in public speaking and was invited to deliver a TED talk in 2018 andis an alumnus of the National Academy of preachers.  \n\n \n\nDr. Doug VanNest is the Dean of MVNU School of Ministry\, professor of Pastoral Practics and coordinator of Church Ministries and CMP Programs. He has served as district superintendent of the Southwestern Ohio District Church of the Nazarene and as pastor in several churches in Ohio and Kansas.   \n\n  \n\nThe event\, at the R.R. Hodges Chapel/Auditorium\, is open to in-person attendance by the MVNU community. COVID-19 protocols including face masks and physical distancing will be enforced. Those outside the university are invited to register at www.eventbrite.com/e/woven-forum-can-we-heal-the-divide-tickets-146649535709 to attend virtually at mvnu.tv or view in the "On-Demand" section after April 15.
X-ALT-DESC;FMTTYPE=text/html:<span style="color:black\;"><span style="font-family:times\,serif\;"><span style="font-size:13.0pt\;">The Office of Intercultural Life at Mount Vernon Nazarene University is sponsoring the Woven Diversity Forum\, &ldquo\;Can We Heal the Divide\,&rdquo\; to discuss diversity and inclusion on April 15. &nbsp\;</span></span></span><br />\n&nbsp\;<br />\n<span style="color:#0E101A\;"><span style="font-family:times\,serif\;"><span style="font-size:13.0pt\;">&ldquo\;We believe that diversity\, equity\, and inclusion should not just be a part of who we are but woven into the fabric of who we are\,&rdquo\; said Tavaris Taylor\, director of Intercultural Life at MVNU. &ldquo\;We will focus on strategies for healing the racial and social divide in our educational system\, churches\, politics\, and economics.&rdquo\;&nbsp\;</span></span></span><br />\n&nbsp\;<br />\n<span style="color:black\;"><span style="font-family:times\,serif\;"><span style="font-size:13.0pt\;">Speakers will include:&nbsp\;</span></span></span><br />\n&nbsp\;<br />\n<strong><span style="color:#0E101A\;"><span style="font-family:times\,serif\;"><span style="font-size:13.0pt\;">J. Burner Crew</span></span></span></strong><span style="color:#0E101A\;"><span style="font-family:times\,serif\;"><span style="font-size:13.0pt\;"> is the Managing Partner at Nirvana Analytics in Cleveland.</span></span></span><span style="color:black\;"><span style="font-family:times\,serif\;"><span style="font-size:13.0pt\;"> He earned a bachelor&rsquo\;s degree in Econometrics from Columbia University and is currently a Registered Investment Advisor and Municipal Advisor. Crew has worked extensively with officials responsible for municipal finance activities in several states\, municipalities\, colleges\, and school districts. He currently serves on the board of directors of the United Black Fund of Cleveland and is a former founding member of the National Association of Securities Professionals (NASP). &nbsp\;&nbsp\;</span></span></span><br />\n&nbsp\;<br />\n<strong><span style="color:#0E101A\;"><span style="font-family:times\,serif\;"><span style="font-size:13.0pt\;">Dr. Shantelle K. Jenkins</span></span></span></strong><span style="color:#0E101A\;"><span style="font-family:times\,serif\;"><span style="font-size:13.0pt\;"> is the Assistant Vice President\, School of Graduate and Professional Studies at MVNU. </span></span></span><span style="color:black\;"><span style="font-family:times\,serif\;"><span style="font-size:13.0pt\;">A strong advocate for students and&nbsp\;faculty development\, particularly the inclusion and success of students and faculty from historically underrepresented groups\, Jenkins has over two decades of experience in education.</span></span></span> <span style="color:black\;"><span style="font-family:times\,serif\;"><span style="font-size:13.0pt\;">Prior to joining MVNU\, she was the director of assessment at Eastern University and most recently\, an instructor in the Educational Policy and Leadership department at Cabrini University. &nbsp\;</span></span></span>&nbsp\;<br />\n&nbsp\;<br />\n<strong><span style="color:black\;"><span style="font-family:times\,serif\;"><span style="font-size:13.0pt\;">Quentin L. McCorvey Sr.\, </span></span></span></strong><span style="color:black\;"><span style="font-family:times\,serif\;"><span style="font-size:13.0pt\;">principal at Nirvana Analytics in Cleveland\, is an administrator\, strategist\, and community leader with wide range of experiences in governmental\, healthcare\, and nonprofit sectors. He has developed a strong record in communications and community affairs\, strategic planning\, relationship management\, budgeting\, program and policy development and analysis. McCorvey earned a BA in Political Science from Jackson State University (Jackson\, MS) in May 1990. He later earned a master&#39\;s degree in Public Administration Program from Cleveland State University in June 1997.&nbsp\;</span></span></span><br />\n&nbsp\;<br />\n<strong><span style="color:#0E101A\;"><span style="font-family:times\,serif\;"><span style="font-size:13.0pt\;">Mayor Matthew Starr </span></span></span></strong><span style="color:#0E101A\;"><span style="font-family:times\,serif\;"><span style="font-size:13.0pt\;">is in his first term as mayor of the City of Mount Vernon. </span></span></span><span style="color:black\;"><span style="font-family:times\,serif\;"><span style="font-size:13.0pt\;">Originally\, from Indiana\, he graduated from Manchester University and entered graduate school at Kent State University\, where he earned his master&rsquo\;s degree in sport psychology. He is currently in a doctoral program specializing in strategic management. He started a corporate film and video production company where he is the executive producer. Starr has served on many non-profit boards and volunteer agencies in the community.&nbsp\;</span></span></span><br />\n&nbsp\;<br />\n<strong><span style="color:black\;"><span style="font-family:times\,serif\;"><span style="font-size:13.0pt\;">Taylor</span></span></span></strong><span style="color:black\;"><span style="font-family:times\,serif\;"><span style="font-size:13.0pt\;"> who joined MVNU in 2020 and is an experienced business and education professional with a demonstrated history of working in the local government\, NGOs\, and multinational companies. He is skilled in public speaking and was invited to deliver a TED talk in 2018 andis an alumnus of the National Academy of preachers. </span></span></span>&nbsp\;<br />\n&nbsp\;<br />\n<strong><span style="color:#0E101A\;"><span style="font-family:times\,serif\;"><span style="font-size:13.0pt\;">Dr. Doug VanNest</span></span></span></strong><span style="color:#0E101A\;"><span style="font-family:times\,serif\;"><span style="font-size:13.0pt\;"> is the Dean of MVNU School of Ministry\, p</span></span></span><span style="color:black\;"><span style="font-family:times\,serif\;"><span style="font-size:13.0pt\;">rofessor of Pastoral Practics and coordinator of Church Ministries and CMP Programs. He has served as district superintendent of the Southwestern Ohio District Church of the Nazarene and as pastor in several churches in Ohio and Kansas. &nbsp\;&nbsp\;</span></span></span><br />\n&nbsp\;&nbsp\;<br />\n<span style="color:black\;"><span style="font-family:times\,serif\;"><span style="font-size:13.0pt\;">The event\, at the R.R. Hodges Chapel/Auditorium\, is open to in-person attendance by the MVNU community. COVID-19 protocols including face masks and physical distancing will be enforced. Those outside the university are invited to register at&nbsp\;<a href="https://www.eventbrite.com/e/woven-forum-can-we-heal-the-divide-tickets-146649535709">www.eventbrite.com/e/woven-forum-can-we-heal-the-divide-tickets-146649535709</a> to attend virtually at </span></span></span><span style="font-family:times\,serif\;"><span style="font-size:13.0pt\;"><a href="https://portal.stretchinternet.com/mvnuadmin/">mvnu.tv</a></span></span><span style="color:black\;"><span style="font-family:times\,serif\;"><span style="font-size:13.0pt\;"> or view in the &ldquo\;On-Demand&rdquo\; section after April 15.&nbsp\;</span></span></span>
LOCATION:R.R. Hodges Chapel/Auditorium located on the main campus of MVNU IN PERSON OR ZOOM - Register with link below https://www.eventbrite.com/e/woven-forum-can-we-heal-the-divide-tickets-146649535709
UID:e.2893.4858
SEQUENCE:3
DTSTAMP:20260420T005046Z
URL:http://knoxchamber.smartcms.site/events/details/woven-diversity-forum-can-we-heal-the-divide-4858
END:VEVENT

END:VCALENDAR
