BEGIN:VCALENDAR
VERSION:2.0
PRODID:-//ChamberMaster//Event Calendar 2.0//EN
METHOD:PUBLISH
X-PUBLISHED-TTL:P3D
REFRESH-INTERVAL:P3D
CALSCALE:GREGORIAN
BEGIN:VEVENT
DTSTART;VALUE=DATE:20170210
DTEND;VALUE=DATE:20170211
TRANSP:TRANSPARENT
X-MICROSOFT-CDO-ALLDAYEVENT:TRUE
SUMMARY:WNZR Valentine's Banquet
DESCRIPTION:WNZR Valentine's Banquet\n\nVisit the WNZR Facebook page for more information about upcoming events!
X-ALT-DESC;FMTTYPE=text/html:<strong>WNZR&nbsp\;Valentine&#39\;s Banquet</strong><br />\nVisit the WNZR Facebook page for more information about upcoming events!
LOCATION:
UID:e.2893.966
SEQUENCE:3
DTSTAMP:20260423T124337Z
URL:http://knoxchamber.smartcms.site/events/details/wnzr-valentine-s-banquet-966
END:VEVENT

END:VCALENDAR
