BEGIN:VCALENDAR
VERSION:2.0
PRODID:-//ChamberMaster//Event Calendar 2.0//EN
METHOD:PUBLISH
X-PUBLISHED-TTL:P3D
REFRESH-INTERVAL:P3D
CALSCALE:GREGORIAN
BEGIN:VEVENT
DTSTART;VALUE=DATE:20170329
DTEND;VALUE=DATE:20170405
TRANSP:TRANSPARENT
X-MICROSOFT-CDO-ALLDAYEVENT:TRUE
SUMMARY:WNZR's Annual Fundraiser
DESCRIPTION:WNZR's annual fundraiser\n\nTheme: "Let It Be Love"\n\nMarch 29- Day of Prayer and Praise 6:00am to 6:00pm\n\nMarch 30- Lifeline Choice Challenge 4:00pm to 7:00pm\n\nMarch 31- Matching Challenge Day 6:00am to 6:00pm\n\nApril 1- Lifeline 2017 On the Road 10:00am to 2:00pm\n\nApril 3- Lifeline Wrap Up Day 6:00am to 6:00pm
X-ALT-DESC;FMTTYPE=text/html:WNZR&#39\;s annual fundraiser<br />\nTheme: &quot\;Let It Be Love&quot\;<br />\nMarch 29- Day of Prayer and Praise 6:00am to 6:00pm<br />\nMarch 30- Lifeline Choice Challenge 4:00pm to 7:00pm<br />\nMarch 31- Matching Challenge Day 6:00am to 6:00pm<br />\nApril 1- Lifeline 2017 On the Road 10:00am to 2:00pm<br />\nApril 3- Lifeline Wrap Up Day 6:00am to 6:00pm
LOCATION:
UID:e.2893.968
SEQUENCE:3
DTSTAMP:20260423T112147Z
URL:http://knoxchamber.smartcms.site/events/details/wnzr-s-annual-fundraiser-968
END:VEVENT

END:VCALENDAR
