BEGIN:VCALENDAR
VERSION:2.0
PRODID:-//ChamberMaster//Event Calendar 2.0//EN
METHOD:PUBLISH
X-PUBLISHED-TTL:P3D
REFRESH-INTERVAL:P3D
CALSCALE:GREGORIAN
BEGIN:VEVENT
DTSTART:20210507T220000Z
DTEND:20210508T010000Z
X-MICROSOFT-CDO-ALLDAYEVENT:FALSE
SUMMARY:WNZR Mom's Night Out
DESCRIPTION:The winning movie is "I Still Believe"!\n\nOne love can change your life. One life can change the world.\n\nRediscover the wonder of love in I STILL BELIEVE\, based on the real-life story of\n\nchart-topping singer Jeremy Camp.\n\nThis is an inspiring love story for the ages. \n\n \n\nStarring KJ Apa\, Britt Robertson\, Shania Twain\, and Gary Sinise\, I STILL BELIEVE is directed by Jon and Andrew Erwin\, produced by Kevin Downes\, with the screenplay by Jon Erwin and Jon Gunn. \n\nI STILL BELIEVE is a powerful reminder that in the midst of life's storms\, true hope can be found. \n\n\n\n\n\n*Check out the Movie Trailer - https://www.youtube.com/watch?v=YnxHyBbYwQQ  \n\n \n\nThere are some differences for Mom's Night Out 2021:\n\n- The event will follow MVNU and Knox Public Health COVID-19 Protocols \n\n- Masks will be required throughout the entire event \n\n- All seats will be reserved in "Family Groups" \n\n- Family groups are limited to a total of 10 people\n\n- All groups will be socially distanced from each other \n\n- Each attendee must reserve their own seat online  \n\n- The online reservation serves as your registration for prizes\n\n- NO food will be allowed in the Chapel\n\n- Seat Reservations are required. NO walk-ins will be allowed. \n\n \n\n*Deadline to reserve YOUR seat is Wednesday\, May 5th at 6pm\n\n*We are limited to 400 seats for this event\n\n*Make sure that every member of your family group uses the same GROUP NAME \n\n*If you have any problems online\, please call 740-392-9090 and we can reserve your seat over the phone with you \n\nFind all the information about Mom's Night Out at https://www.wnzr.fm/moms-night-out
X-ALT-DESC;FMTTYPE=text/html:<strong><em><span style="color:black\;"><span style="font-family:times new roman\,serif\;"><span style="font-size:12.0pt\;">The winning movie is &ldquo\;I Still Believe&rdquo\;!</span></span></span></em></strong><br />\n<span style="color:black\;"><span style="font-family:times new roman\,serif\;"><span style="font-size:12.0pt\;">One love can change your life. One life can change the world.<br />\nRediscover the wonder of love in <strong>I STILL BELIEVE</strong>\, based on the real-life story of<br />\nchart-topping singer Jeremy Camp.<br />\nThis is an inspiring love story for the ages.&nbsp\;</span></span></span><br />\n&nbsp\;<br />\n<span style="color:black\;"><span style="font-family:times new roman\,serif\;"><span style="font-size:12.0pt\;">Starring KJ Apa\, Britt Robertson\, Shania Twain\, and Gary Sinise\, <strong>I STILL BELIEVE</strong> is directed by Jon and Andrew Erwin\, produced by Kevin Downes\, with the screenplay by Jon Erwin and Jon Gunn.&nbsp\;</span></span></span><br />\n<strong><span style="color:black\;"><span style="font-family:times new roman\,serif\;"><span style="font-size:12.0pt\;">I STILL BELIEVE</span></span></span></strong><span style="color:black\;"><span style="font-family:times new roman\,serif\;"><span style="font-size:12.0pt\;"> is a powerful reminder that in the midst of life&rsquo\;s storms\, true hope can be found.&nbsp\;</span></span></span><br />\n<br />\n<br />\n<em><span style="color:black\;"><span style="font-family:times new roman\,serif\;"><span style="font-size:12.0pt\;">*Check out the Movie Trailer -&nbsp\;<a href="https://www.youtube.com/watch?v=YnxHyBbYwQQ">https://www.youtube.com/watch?v=YnxHyBbYwQQ</a> &nbsp\;</span></span></span></em><br />\n&nbsp\;<br />\n<strong><u><span style="color:black\;"><span style="font-family:times new roman\,serif\;"><span style="font-size:12.0pt\;">There are some differences for Mom&rsquo\;s Night Out 2021</span></span></span></u></strong><span style="color:black\;"><span style="font-family:times new roman\,serif\;"><span style="font-size:12.0pt\;">:<br />\n- The event will follow MVNU and Knox Public Health COVID-19 Protocols&nbsp\;</span></span></span><br />\n<span style="color:black\;"><span style="font-family:times new roman\,serif\;"><span style="font-size:12.0pt\;">- Masks will be required throughout the entire event&nbsp\;</span></span></span><br />\n<span style="color:black\;"><span style="font-family:times new roman\,serif\;"><span style="font-size:12.0pt\;">- All seats will be reserved in &ldquo\;Family Groups&rdquo\;&nbsp\;</span></span></span><br />\n<span style="color:black\;"><span style="font-family:times new roman\,serif\;"><span style="font-size:12.0pt\;">- Family groups are limited to a total of 10 people<br />\n- All groups will be socially distanced from each other&nbsp\;</span></span></span><br />\n<span style="color:black\;"><span style="font-family:times new roman\,serif\;"><span style="font-size:12.0pt\;">- Each attendee must reserve their own seat online &nbsp\;</span></span></span><br />\n<span style="color:black\;"><span style="font-family:times new roman\,serif\;"><span style="font-size:12.0pt\;">- The online reservation serves as your registration for prizes<br />\n- NO food will be allowed in the Chapel<br />\n- Seat Reservations are required. NO walk-ins will be allowed.&nbsp\;</span></span></span><br />\n&nbsp\;<br />\n<span style="color:black\;"><span style="font-family:times new roman\,serif\;"><span style="font-size:12.0pt\;">*Deadline to reserve YOUR seat is Wednesday\, May 5<sup>th</sup> at 6pm<br />\n*We are limited to 400 seats for this event<br />\n*Make sure that every member of your family group uses the same GROUP NAME&nbsp\;</span></span></span><br />\n<span style="color:black\;"><span style="font-family:times new roman\,serif\;"><span style="font-size:12.0pt\;">*If you have any problems online\, please call 740-392-9090 and we can reserve your seat over the phone with you&nbsp\;</span></span></span><br />\n<span style="color:black\;"><span style="font-family:times new roman\,serif\;"><span style="font-size:12.0pt\;">Find all the information about Mom&rsquo\;s Night Out at&nbsp\;<a href="https://www.wnzr.fm/moms-night-out">https://www.wnzr.fm/moms-night-out</a></span></span></span>
LOCATION:MVNU Chapel Auditorium 800 Martinsburg Road
UID:e.2893.4879
SEQUENCE:3
DTSTAMP:20260419T211728Z
URL:http://knoxchamber.smartcms.site/events/details/wnzr-mom-s-night-out-4879
END:VEVENT

END:VCALENDAR
