BEGIN:VCALENDAR
VERSION:2.0
PRODID:-//ChamberMaster//Event Calendar 2.0//EN
METHOD:PUBLISH
X-PUBLISHED-TTL:P3D
REFRESH-INTERVAL:P3D
CALSCALE:GREGORIAN
BEGIN:VEVENT
DTSTART:20200118T190000Z
DTEND:20200118T203000Z
X-MICROSOFT-CDO-ALLDAYEVENT:FALSE
SUMMARY:Winter Tree ID
DESCRIPTION:Meet at the BFEC Resource Center. Yes\, you can identify trees in winter! Learn about leaf scars\, bundle traces\, bud scales\, and more. We will start inside to learn some basics and then we'll test our new-found knowledge outside as we identify some common trees. Dress for the weather.
X-ALT-DESC;FMTTYPE=text/html:Meet at the BFEC Resource Center. Yes\, you can identify trees in winter! Learn about leaf scars\, bundle traces\, bud scales\, and more. We will start inside to learn some basics and then we&rsquo\;ll test our new-found knowledge outside as we identify some common trees. Dress for the weather.
LOCATION:BFEC
UID:e.2893.4690
SEQUENCE:3
DTSTAMP:20260420T230706Z
URL:http://knoxchamber.smartcms.site/events/details/winter-tree-id-4690
END:VEVENT

END:VCALENDAR
