BEGIN:VCALENDAR
VERSION:2.0
PRODID:-//ChamberMaster//Event Calendar 2.0//EN
METHOD:PUBLISH
X-PUBLISHED-TTL:P3D
REFRESH-INTERVAL:P3D
CALSCALE:GREGORIAN
BEGIN:VEVENT
DTSTART:20170810T180000Z
DTEND:20170810T230000Z
X-MICROSOFT-CDO-ALLDAYEVENT:FALSE
SUMMARY:Winter Sanctuary Donkey-Doo
DESCRIPTION:The Winter Sanctuary\, the homeless shelters in Mount Vernon\, will hold Donkey-doo on Aug. 10\, 2-7 p.m.\, with more chances for ticket purchasers to win than at last year's inaugural event. As last year\, the shelter will sell tickets corresponding to squares marked out on a field at 11660 Upper Gilchrist Road in Mount Vernon\, near Knox County Head Start and the Knox County Health Department. When donkeys released into the field make droppings in a square\, the holder of a ticket for that square wins a prize. Tickets are $5 each. The number of participating donkeys will increase\, thus increasing ticket purchasers' chances as well.
X-ALT-DESC;FMTTYPE=text/html:<span style="font-size:14.0pt\;">The Winter Sanctuary\, the homeless shelters in Mount Vernon\,&nbsp\;will hold Donkey-doo&nbsp\;on Aug. 10\, 2-7 p.m.\, with more chances for ticket purchasers to win than at last year&rsquo\;s inaugural event. As last year\, the shelter will sell tickets corresponding to squares marked out on a field at 11660 Upper Gilchrist Road in Mount Vernon\, near Knox County Head Start and the Knox County Health Department. When donkeys released into the field make droppings in a square\, the holder of a ticket for that square wins a prize. Tickets are $5 each. The number of participating donkeys will increase\, thus increasing ticket purchasers&rsquo\; chances as well.</span>
LOCATION:
UID:e.2893.1387
SEQUENCE:3
DTSTAMP:20260423T005852Z
URL:http://knoxchamber.smartcms.site/events/details/winter-sanctuary-donkey-doo-1387
END:VEVENT

END:VCALENDAR
