BEGIN:VCALENDAR
VERSION:2.0
PRODID:-//ChamberMaster//Event Calendar 2.0//EN
METHOD:PUBLISH
X-PUBLISHED-TTL:P3D
REFRESH-INTERVAL:P3D
CALSCALE:GREGORIAN
BEGIN:VEVENT
DTSTART:20190209T140000Z
DTEND:20190209T150000Z
X-MICROSOFT-CDO-ALLDAYEVENT:FALSE
SUMMARY:Winter Bird Watch
DESCRIPTION:Meet at the BFEC Resource Center. Drink hot chocolate and observe birds eating from the BFEC feeders. Ray Heithaus will teach us a bit about field markings and bird identification\, migration and why some birds don't migrate\, and he'll tell us about Project Feederwatch\, a great citizen science initiative from the Cornell Lab of Ornithology. We'll provide hot chocolate and binoculars for those who may not have their own.
X-ALT-DESC;FMTTYPE=text/html:Meet at the BFEC Resource Center. Drink hot chocolate and observe birds eating from the BFEC feeders. Ray Heithaus will teach us a bit about field markings and bird identification\, migration and why some birds don&rsquo\;t migrate\, and he&rsquo\;ll tell us about Project Feederwatch\, a great citizen science initiative from the Cornell Lab of Ornithology. We&rsquo\;ll provide hot chocolate and binoculars for those who may not have their own.
LOCATION:Brown Family Environmental Center 9871 Laymon Road. Gambier\, Ohio 43022
UID:e.2893.3863
SEQUENCE:3
DTSTAMP:20260421T195424Z
URL:http://knoxchamber.smartcms.site/events/details/winter-bird-watch-3863
END:VEVENT

END:VCALENDAR
