BEGIN:VCALENDAR
VERSION:2.0
PRODID:-//ChamberMaster//Event Calendar 2.0//EN
METHOD:PUBLISH
X-PUBLISHED-TTL:P3D
REFRESH-INTERVAL:P3D
CALSCALE:GREGORIAN
BEGIN:VEVENT
DTSTART:20170401T140000Z
DTEND:20170401T160000Z
X-MICROSOFT-CDO-ALLDAYEVENT:FALSE
SUMMARY:Wildflowers\, Part I: Spring Ephemerals
DESCRIPTION:Join us on two different dates at two different locations to learn about the brave and beautiful wildflowers that kickoff the spring season. These species have a small window of sunshine between snowmelt and tree leaf-out in which to grow\, flower\, be pollinated\, and produce seeds. April 1\, 10:00 am   at Honey Run Waterfall with Lori Totman & Noelle Jordan\, meet in the Honey Run parking lot at 10855 Hazel Dell Road in Howard\, OH
X-ALT-DESC;FMTTYPE=text/html:Join us on two different dates at two different locations to learn about the brave and beautiful wildflowers that kickoff the spring season. These species have a small window of sunshine between snowmelt and tree leaf-out in which to grow\, flower\, be pollinated\, and produce seeds. April 1\, 10:00 am &mdash\; at Honey Run Waterfall with Lori Totman &amp\; Noelle Jordan\, meet in the Honey Run parking lot at 10855 Hazel Dell Road in Howard\, OH
LOCATION:Honey Run Parking Lot
UID:e.2893.962
SEQUENCE:3
DTSTAMP:20260423T093732Z
URL:http://knoxchamber.smartcms.site/events/details/wildflowers-part-i-spring-ephemerals-04-01-2017-962
END:VEVENT

END:VCALENDAR
