BEGIN:VCALENDAR
VERSION:2.0
PRODID:-//ChamberMaster//Event Calendar 2.0//EN
METHOD:PUBLISH
X-PUBLISHED-TTL:P3D
REFRESH-INTERVAL:P3D
CALSCALE:GREGORIAN
BEGIN:VEVENT
DTSTART:20210526T150000Z
DTEND:20210526T230000Z
X-MICROSOFT-CDO-ALLDAYEVENT:FALSE
SUMMARY:Whispering Hills: Zaki Grill Food Truck
DESCRIPTION:Whispering Hills to host Zaki Grill Food Truck!
X-ALT-DESC;FMTTYPE=text/html:Whispering Hills to host Zaki Grill Food Truck!
LOCATION:Whispering Hills 416 Wooster Road
UID:e.2893.4915
SEQUENCE:3
DTSTAMP:20260419T211846Z
URL:http://knoxchamber.smartcms.site/events/details/whispering-hills-zaki-grill-food-truck-4915
END:VEVENT

END:VCALENDAR
