BEGIN:VCALENDAR
VERSION:2.0
PRODID:-//ChamberMaster//Event Calendar 2.0//EN
METHOD:PUBLISH
X-PUBLISHED-TTL:P3D
REFRESH-INTERVAL:P3D
CALSCALE:GREGORIAN
BEGIN:VEVENT
DTSTART:20210223T190000Z
DTEND:20210223T200000Z
X-MICROSOFT-CDO-ALLDAYEVENT:FALSE
SUMMARY:Webinar - Deeper Dive into the Universal Waste Rules
DESCRIPTION:Click here for the full details on the webinar!
X-ALT-DESC;FMTTYPE=text/html:<strong><a href="https://chambermaster.blob.core.windows.net/userfiles/UserFiles/chambers/2893/File/Webinar-DeeperDiveintotheUniversalWasteRules.pdf">Click here for the full details on the webinar!</a></strong>
LOCATION:Virtual Webinar
UID:e.2893.4829
SEQUENCE:3
DTSTAMP:20260420T043323Z
URL:http://knoxchamber.smartcms.site/events/details/webinar-deeper-dive-into-the-universal-waste-rules-4829
END:VEVENT

END:VCALENDAR
