BEGIN:VCALENDAR
VERSION:2.0
PRODID:-//ChamberMaster//Event Calendar 2.0//EN
METHOD:PUBLISH
X-PUBLISHED-TTL:P3D
REFRESH-INTERVAL:P3D
CALSCALE:GREGORIAN
BEGIN:VEVENT
DTSTART:20170915T130000Z
DTEND:20170915T140000Z
X-MICROSOFT-CDO-ALLDAYEVENT:FALSE
SUMMARY:Webb's Marathon Grand Opening & RC
DESCRIPTION:Join us on Friday\, September 15th at Webb's Marathon\, located at 164 East Main Street\, in Centerburg for a Grand Opening & ribbon cutting ceremony! Join us at 9:00am for the ribbon cutting! \n\n\n\nFriday\, Saturday\, and Sunday\n\n$.99 drinks- coffee\, slushy\, fountain pop\n\n$1.99 F'Real's \n\nOther discounts to come \n\n \n\nSaturday 9am to 3pm Grand Opening Special \n\nRegister for prizes from our vendors \n\n$200 Gift Card for Webb's Marathon \n\nSpecial pricing on Tires if you visit Bill during the above hours.
X-ALT-DESC;FMTTYPE=text/html:Join us on Friday\, September 15th at Webb&#39\;s Marathon\, located at 164 East Main Street\, in Centerburg for a Grand Opening &amp\; ribbon cutting ceremony! Join us at 9:00am for the ribbon cutting!&nbsp\;<br />\n<br />\nFriday\, Saturday\, and Sunday<br />\n$.99 drinks- coffee\, slushy\, fountain pop<br />\n$1.99 F&#39\;Real&#39\;s&nbsp\;<br />\nOther discounts to come&nbsp\;<br />\n&nbsp\;<br />\nSaturday 9am to 3pm Grand Opening Special&nbsp\;<br />\nRegister for prizes from our vendors&nbsp\;<br />\n$200 Gift Card for Webb&#39\;s Marathon&nbsp\;<br />\nSpecial pricing on Tires if you visit Bill during the above hours.&nbsp\;<br />\n&nbsp\;
LOCATION:164 East Main Street\, Centerburg
UID:e.2893.1493
SEQUENCE:3
DTSTAMP:20260422T225844Z
URL:http://knoxchamber.smartcms.site/events/details/webb-s-marathon-grand-opening-rc-1493
END:VEVENT

END:VCALENDAR
