BEGIN:VCALENDAR
VERSION:2.0
PRODID:-//ChamberMaster//Event Calendar 2.0//EN
METHOD:PUBLISH
X-PUBLISHED-TTL:P3D
REFRESH-INTERVAL:P3D
CALSCALE:GREGORIAN
BEGIN:VEVENT
DTSTART:20201005T120000Z
DTEND:20201006T010000Z
X-MICROSOFT-CDO-ALLDAYEVENT:FALSE
SUMMARY:Voter Registration Deadline
DESCRIPTION:Last day to register or make changes to voter registration before the General Election.
X-ALT-DESC;FMTTYPE=text/html:Last day to register or make changes to voter registration before the General Election.
LOCATION:Knox County Board of Elections 104 E. Sugar St. or www.voteohio.gov
UID:e.2893.4796
SEQUENCE:3
DTSTAMP:20260420T092216Z
URL:http://knoxchamber.smartcms.site/events/details/voter-registration-deadline-4796
END:VEVENT

END:VCALENDAR
