BEGIN:VCALENDAR
VERSION:2.0
PRODID:-//ChamberMaster//Event Calendar 2.0//EN
METHOD:PUBLISH
X-PUBLISHED-TTL:P3D
REFRESH-INTERVAL:P3D
CALSCALE:GREGORIAN
BEGIN:VEVENT
DTSTART:20170418T230000Z
DTEND:20170419T000000Z
X-MICROSOFT-CDO-ALLDAYEVENT:FALSE
SUMMARY:“Visits: Renewable Energy and Climate.”
DESCRIPTION:This event is part of the "Visits" series that facilitates discussions between Kenyon and the Knox County community that explore the character of rural life.
X-ALT-DESC;FMTTYPE=text/html:This event is part of the &quot\;Visits&quot\; series that facilitates discussions between Kenyon and the Knox County community that explore the character of rural life.&nbsp\;
LOCATION:7:00pm at the Wright Center\, 400 S. Main Street\, Mount Vernon
UID:e.2893.1280
SEQUENCE:3
DTSTAMP:20260423T093734Z
URL:http://knoxchamber.smartcms.site/events/details/visits-renewable-energy-and-climate-1280
END:VEVENT

END:VCALENDAR
