BEGIN:VCALENDAR
VERSION:2.0
PRODID:-//ChamberMaster//Event Calendar 2.0//EN
METHOD:PUBLISH
X-PUBLISHED-TTL:P3D
REFRESH-INTERVAL:P3D
CALSCALE:GREGORIAN
BEGIN:VEVENT
DTSTART:20210312T140000Z
DTEND:20210313T021500Z
X-MICROSOFT-CDO-ALLDAYEVENT:FALSE
SUMMARY:Virtual Ribbon Cutting Ceremony Lashley Training Center 24/7 Gym
DESCRIPTION:Official Ribbon Cutting Ceremony to celebrate the opening of the new Lashley Training Center 24/7 facility.
X-ALT-DESC;FMTTYPE=text/html:Official Ribbon Cutting Ceremony to celebrate the opening of the new Lashley Training Center 24/7 facility.
LOCATION:Virtual
UID:e.2893.4841
SEQUENCE:3
DTSTAMP:20260420T005403Z
URL:http://knoxchamber.smartcms.site/events/details/virtual-ribbon-cutting-ceremony-lashley-training-center-24-7-gym-4841
END:VEVENT

END:VCALENDAR
