BEGIN:VCALENDAR
VERSION:2.0
PRODID:-//ChamberMaster//Event Calendar 2.0//EN
METHOD:PUBLISH
X-PUBLISHED-TTL:P3D
REFRESH-INTERVAL:P3D
CALSCALE:GREGORIAN
BEGIN:VEVENT
DTSTART:20210120T171500Z
DTEND:20210120T173000Z
X-MICROSOFT-CDO-ALLDAYEVENT:FALSE
SUMMARY:Virtual Ribbon Cutting Ceremony Downtown Mount Vernon WiFi
DESCRIPTION:Virtual Ribbon Cutting Ceremony for the unveiling of Downtown Mount Vernon WiFi. Tune in to find out more.
X-ALT-DESC;FMTTYPE=text/html:<span style="color: rgb(5\, 5\, 5)\; font-family: &quot\;Segoe UI Historic&quot\;\, &quot\;Segoe UI&quot\;\, Helvetica\, Arial\, sans-serif\; font-size: 15px\;">Virtual Ribbon Cutting Ceremony for the unveiling of Downtown Mount Vernon WiFi. Tune in to find out more.</span><br />\n&nbsp\;
LOCATION:https://www.facebook.com/events/173211437916779
UID:e.2893.4823
SEQUENCE:3
DTSTAMP:20260420T043834Z
URL:http://knoxchamber.smartcms.site/events/details/virtual-ribbon-cutting-ceremony-downtown-mount-vernon-wifi-4823
END:VEVENT

END:VCALENDAR
