BEGIN:VCALENDAR
VERSION:2.0
PRODID:-//ChamberMaster//Event Calendar 2.0//EN
METHOD:PUBLISH
X-PUBLISHED-TTL:P3D
REFRESH-INTERVAL:P3D
CALSCALE:GREGORIAN
BEGIN:VEVENT
DTSTART:20191119T230000Z
DTEND:20191120T020000Z
X-MICROSOFT-CDO-ALLDAYEVENT:FALSE
SUMMARY:Veterans Appreciation Night
DESCRIPTION:Join MVNU Athletics and Dave's Cosmic Subs as they honor our Veterans. At 6pm\, prior to the tip-off of the men's basketball game a ceremony will take place to honor those who have served.  Dave's Cosmic Subs will provide a meal in Fosters Hall and the game will begin at 7pm.\n\n\n\nPlease RSVP by November 15
X-ALT-DESC;FMTTYPE=text/html:Join MVNU Athletics and Dave&#39\;s Cosmic Subs as they honor our Veterans. At 6pm\, prior to the tip-off of the men&#39\;s basketball game a ceremony will take place to honor those who have served.&nbsp\; Dave&#39\;s Cosmic Subs will provide a meal in Fosters Hall and the game will begin at 7pm.<br />\n<br />\nPlease RSVP by November 15
LOCATION:Ariel Arena
UID:e.2893.4678
SEQUENCE:3
DTSTAMP:20260421T023257Z
URL:http://knoxchamber.smartcms.site/events/details/veterans-appreciation-night-4678
END:VEVENT

END:VCALENDAR
