BEGIN:VCALENDAR
VERSION:2.0
PRODID:-//ChamberMaster//Event Calendar 2.0//EN
METHOD:PUBLISH
X-PUBLISHED-TTL:P3D
REFRESH-INTERVAL:P3D
CALSCALE:GREGORIAN
BEGIN:VEVENT
DTSTART:20190901T233000Z
DTEND:20190902T010000Z
X-MICROSOFT-CDO-ALLDAYEVENT:FALSE
SUMMARY:Vaughn Weister's Famous Jazz Orchestra
DESCRIPTION:The next event in Ariel-Foundation Park's 2019 free concert series will be held Sunday\, Sept. 1\, and will feature Vaughn Wiester's Famous Jazz Orchestra at 7:30 p.m. in the Schnormeier Event Center. \n\n\n\nVaughn Wiester's Famous Jazz Orchestra is made up of 21 of central Ohio's finest musicians who have come together every Monday evening on a semi-informal basis since 1997. \n\n\n\nFood vendors\, open an hour prior to concert start time\, include Squeals on Wheels\, Kent's Cones\, BH Coffee and Domino's Pizza. No outside food or beverages may be brought into the Event Center. Pets and smoking are prohibited in the event center and within the fenced area surrounding it. Thank you to Event Setters Party Rental for supplying the dance floor for the evening.
X-ALT-DESC;FMTTYPE=text/html:<span style="display: inline !important\; float: none\; background-color: rgb(255\, 255\, 255)\; color: rgb(28\, 30\, 33)\; font-family: inherit\; font-size: 14px\; font-style: normal\; font-variant: normal\; font-weight: normal\; letter-spacing: normal\; line-height: 1.38\; orphans: 2\; text-align: left\; text-decoration: none\; text-indent: 0px\; text-transform: none\; -webkit-text-stroke-width: 0px\; white-space: normal\; word-spacing: 0px\;">The next event in Ariel-Foundation Park&#39\;s 2019 free concert series will be held Sunday\, Sept. 1\, and will feature Vaughn Wiester&#39\;s Famous Jazz Orchestra at 7:30 p.m. in the Schnormeier Event Center. </span><br style="color: rgb(28\, 30\, 33)\; font-family: Helvetica\,Arial\,sans-serif\; font-size: 14px\; font-style: normal\; font-variant: normal\; font-weight: 400\; letter-spacing: normal\; orphans: 2\; text-align: left\; text-decoration: none\; text-indent: 0px\; text-transform: none\; -webkit-text-stroke-width: 0px\; white-space: normal\; word-spacing: 0px\;" />\n<br style="color: rgb(28\, 30\, 33)\; font-family: Helvetica\,Arial\,sans-serif\; font-size: 14px\; font-style: normal\; font-variant: normal\; font-weight: 400\; letter-spacing: normal\; orphans: 2\; text-align: left\; text-decoration: none\; text-indent: 0px\; text-transform: none\; -webkit-text-stroke-width: 0px\; white-space: normal\; word-spacing: 0px\;" />\n<span style="display: inline !important\; float: none\; background-color: rgb(255\, 255\, 255)\; color: rgb(28\, 30\, 33)\; font-family: inherit\; font-size: 14px\; font-style: normal\; font-variant: normal\; font-weight: normal\; letter-spacing: normal\; line-height: 1.38\; orphans: 2\; text-align: left\; text-decoration: none\; text-indent: 0px\; text-transform: none\; -webkit-text-stroke-width: 0px\; white-space: normal\; word-spacing: 0px\;">Vaughn Wiester&rsquo\;s Famous Jazz Orchestra is made up of 21 of central Ohio&rsquo\;s finest musicians who have come together every Monday evening on a semi-informal basis since 1997. </span><br style="color: rgb(28\, 30\, 33)\; font-family: Helvetica\,Arial\,sans-serif\; font-size: 14px\; font-style: normal\; font-variant: normal\; font-weight: 400\; letter-spacing: normal\; orphans: 2\; text-align: left\; text-decoration: none\; text-indent: 0px\; text-transform: none\; -webkit-text-stroke-width: 0px\; white-space: normal\; word-spacing: 0px\;" />\n<br style="color: rgb(28\, 30\, 33)\; font-family: Helvetica\,Arial\,sans-serif\; font-size: 14px\; font-style: normal\; font-variant: normal\; font-weight: 400\; letter-spacing: normal\; orphans: 2\; text-align: left\; text-decoration: none\; text-indent: 0px\; text-transform: none\; -webkit-text-stroke-width: 0px\; white-space: normal\; word-spacing: 0px\;" />\n<span style="display: inline !important\; float: none\; background-color: rgb(255\, 255\, 255)\; color: rgb(28\, 30\, 33)\; font-family: inherit\; font-size: 14px\; font-style: normal\; font-variant: normal\; font-weight: normal\; letter-spacing: normal\; line-height: 1.38\; orphans: 2\; text-align: left\; text-decoration: none\; text-indent: 0px\; text-transform: none\; -webkit-text-stroke-width: 0px\; white-space: normal\; word-spacing: 0px\;">Food vendors\, open an hour prior to concert start time\, include Squeals on Wheels\, Kent&#39\;s Cones\, BH Coffee and Domino&#39\;s Pizza. No outside food or beverages may be brought into the Event Center. Pets and smoking are prohibited in the event center and within the fenced area surrounding it. Thank you to Event Setters Party Rental for supplying the dance floor for the evening. </span>
LOCATION:Ariel-Foundation Park
UID:e.2893.4433
SEQUENCE:3
DTSTAMP:20260421T053702Z
URL:http://knoxchamber.smartcms.site/events/details/vaughn-weister-s-famous-jazz-orchestra-4433
END:VEVENT

END:VCALENDAR
