BEGIN:VCALENDAR
VERSION:2.0
PRODID:-//ChamberMaster//Event Calendar 2.0//EN
METHOD:PUBLISH
X-PUBLISHED-TTL:P3D
REFRESH-INTERVAL:P3D
CALSCALE:GREGORIAN
BEGIN:VEVENT
DTSTART:20180217T223000Z
DTEND:20180218T020000Z
X-MICROSOFT-CDO-ALLDAYEVENT:FALSE
SUMMARY:Valentine Date Night at the Memorial Building
DESCRIPTION:Valentine Date Night at the Memorial Building on February 17th beginning at 5:30pm. Click the link below for more information and to register.\n\n\n\nhttp://www.knoxcountymemorialbuilding.org/store/p1/Valentine_Date_Night%2C_Saturday_-_February_17th_-_Cocktails_at_5%3A30_p.m..html
X-ALT-DESC;FMTTYPE=text/html:Valentine Date Night at the Memorial Building on February 17th beginning at 5:30pm. Click the link below for more information and to register.<br />\n<br />\n<a href="http://www.knoxcountymemorialbuilding.org/store/p1/Valentine_Date_Night%2C_Saturday_-_February_17th_-_Cocktails_at_5%3A30_p.m..html">http://www.knoxcountymemorialbuilding.org/store/p1/Valentine_Date_Night%2C_Saturday_-_February_17th_-_Cocktails_at_5%3A30_p.m..html</a>
LOCATION:
UID:e.2893.2552
SEQUENCE:3
DTSTAMP:20260422T142214Z
URL:http://knoxchamber.smartcms.site/events/details/valentine-date-night-at-the-memorial-building-2552
END:VEVENT

END:VCALENDAR
