BEGIN:VCALENDAR
VERSION:2.0
PRODID:-//ChamberMaster//Event Calendar 2.0//EN
METHOD:PUBLISH
X-PUBLISHED-TTL:P3D
REFRESH-INTERVAL:P3D
CALSCALE:GREGORIAN
BEGIN:VEVENT
DTSTART:20180910T160000Z
DTEND:20180914T230000Z
X-MICROSOFT-CDO-ALLDAYEVENT:FALSE
SUMMARY:United Way Campaign Kickoff Week
DESCRIPTION:Campaign Kickoff Schedule\n\n We are now preparing to Kick-Off our 2018 Campaign\, which will raise funds for the programs that you helped select for investment in 2019. \n\n\nOur Campaign theme this year is "Hear Our Stories\, your gift changes their stories." We cannot wait to share some incredible stories that we have collected from our program participants and partner agency clients with all of you. You will be inspired\, moved and proud of being a part of the United Way movement here in Knox County.
X-ALT-DESC;FMTTYPE=text/html:Campaign Kickoff Schedule<br />\n<span style="font-family: Arial\, sans-serif\; font-size: 9pt\;">&nbsp\;We are now preparing to Kick-Off our 2018 Campaign\, which will raise funds for the programs that you helped select for investment in 2019.&nbsp\;</span>\n<p><o:p></o:p></p>\n\n<p><span style="font-size:9.0pt\;font-family:&quot\;Arial&quot\;\,sans-serif">Our Campaign theme this year is &ldquo\;Hear Our Stories\, your gift changes their stories.&rdquo\; We cannot wait to share some incredible stories that we have collected from our program participants and partner agency clients with all of you. You will be inspired\, moved and proud of being a part of the United Way movement here in Knox County.</span><o:p></o:p></p>\n
LOCATION:Varies Places see schedule https://www.uwayknox.org/sites/uwayknox.org/files/media-icons/2018%20United%20Way%20Campaign%20Kickoff%20Week%20Schedule%20with%20sponsors.pdf
UID:e.2893.3773
SEQUENCE:3
DTSTAMP:20260422T023938Z
URL:http://knoxchamber.smartcms.site/events/details/united-way-campaign-kickoff-week-3773
END:VEVENT

END:VCALENDAR
