BEGIN:VCALENDAR
VERSION:2.0
PRODID:-//ChamberMaster//Event Calendar 2.0//EN
METHOD:PUBLISH
X-PUBLISHED-TTL:P3D
REFRESH-INTERVAL:P3D
CALSCALE:GREGORIAN
BEGIN:VEVENT
DTSTART;VALUE=DATE:20170418
DTEND;VALUE=DATE:20170419
TRANSP:TRANSPARENT
X-MICROSOFT-CDO-ALLDAYEVENT:TRUE
SUMMARY:Understanding Working Capital in Your Small Business
DESCRIPTION:Tuesday\, April 18 Understanding Working Capital in Your Small Business\n\nRegister with Glenn Clevenger: glenn.clevenger@sba.gov / 513-684-2814 x 205
X-ALT-DESC;FMTTYPE=text/html:<p class="gdp" style="margin-top:9.75pt\;margin-right:0in\;margin-bottom:9.75pt\;\nmargin-left:0in\;line-height:13.5pt"><b><span style="font-size:10.5pt\;\nfont-family:&quot\;Arial&quot\;\,sans-serif\;color:#0A1A1F">Tuesday\, April 18 Understanding Working Capital in Your Small Business</span></b><span style="font-size:10.5pt\;\nfont-family:&quot\;Arial&quot\;\,sans-serif\;color:#0A1A1F"><o:p></o:p></span></p>\n\n<p class="gdp" style="margin-top:9.75pt\;margin-right:0in\;margin-bottom:9.75pt\;\nmargin-left:0in\;line-height:13.5pt"><span style="font-size:10.5pt\;font-family:\n&quot\;Arial&quot\;\,sans-serif\;color:#0A1A1F">Register with Glenn Clevenger: <a href="mailto:glenn.clevenger@sba.gov">glenn.clevenger@sba.gov</a> / 513-684-2814 x 205<o:p></o:p></span></p>\n
LOCATION:
UID:e.2893.1359
SEQUENCE:3
DTSTAMP:20260423T112535Z
URL:http://knoxchamber.smartcms.site/events/details/understanding-working-capital-in-your-small-business-1359
END:VEVENT

END:VCALENDAR
