BEGIN:VCALENDAR
VERSION:2.0
PRODID:-//ChamberMaster//Event Calendar 2.0//EN
METHOD:PUBLISH
X-PUBLISHED-TTL:P3D
REFRESH-INTERVAL:P3D
CALSCALE:GREGORIAN
BEGIN:VEVENT
DTSTART:20211103T210000Z
DTEND:20211103T213000Z
X-MICROSOFT-CDO-ALLDAYEVENT:FALSE
SUMMARY:TRX Bands -- Free Fitness Workshop
DESCRIPTION:Total Body Resistance Exercise (TRX) is a workout method that uses your body weight and gravity as resistance to build strength\, balance\, coordination\, flexibility\, core and joint stability. Come see how easy and beneficial this tool would by adding it into your routine.
X-ALT-DESC;FMTTYPE=text/html:Total Body Resistance Exercise (TRX) is a workout method that uses your body weight and gravity as resistance to build strength\, balance\, coordination\, flexibility\, core and joint stability. Come see how easy and beneficial this tool would by adding it into your routine.
LOCATION:Connections Fitness 1375 Yauger Rd. Mount Vernon\, OH 43050
UID:e.2893.5035
SEQUENCE:3
DTSTAMP:20260421T085723Z
URL:http://knoxchamber.smartcms.site/events/details/trx-bands-free-fitness-workshop-5035
END:VEVENT

END:VCALENDAR
