BEGIN:VCALENDAR
VERSION:2.0
PRODID:-//ChamberMaster//Event Calendar 2.0//EN
METHOD:PUBLISH
X-PUBLISHED-TTL:P3D
REFRESH-INTERVAL:P3D
CALSCALE:GREGORIAN
BEGIN:VEVENT
DTSTART:20191026T213000Z
DTEND:20191027T000000Z
X-MICROSOFT-CDO-ALLDAYEVENT:FALSE
SUMMARY:Trick-or-Treat at Ariel-Foundation Park
DESCRIPTION:Bring your kids to the park for Trick-or-Treating! A host of local businesses will line the trails of Ariel-Foundation Park to hand out candy. Join the fun!
X-ALT-DESC;FMTTYPE=text/html:Bring your kids to the park for Trick-or-Treating! A host of local businesses will line the trails of Ariel-Foundation Park to hand out candy. Join the fun!
LOCATION:Ariel-Foundation Park
UID:e.2893.4638
SEQUENCE:3
DTSTAMP:20260421T053703Z
URL:http://knoxchamber.smartcms.site/events/details/trick-or-treat-at-ariel-foundation-park-4638
END:VEVENT

END:VCALENDAR
