BEGIN:VCALENDAR
VERSION:2.0
PRODID:-//ChamberMaster//Event Calendar 2.0//EN
METHOD:PUBLISH
X-PUBLISHED-TTL:P3D
REFRESH-INTERVAL:P3D
CALSCALE:GREGORIAN
BEGIN:VEVENT
DTSTART:20181129T233000Z
DTEND:20181130T013000Z
X-MICROSOFT-CDO-ALLDAYEVENT:FALSE
SUMMARY:Tree Diseases
DESCRIPTION:Meet at the BFEC Resource Center. This enlightening program will cover some of the diseases and tree-killing insects that are attacking Ohio trees. Jake Peer\, the Wildlife Specialist at Knox County Soil and Water\, will discuss the latest problems with Beech trees\, as well as the plight of our White Ash\, Walnut\, Hemlock trees and more.
X-ALT-DESC;FMTTYPE=text/html:Meet at the <span style="color:#800000\;"><em>BFEC Resource Center</em></span>. This enlightening program will cover some of the diseases and tree-killing insects that are attacking Ohio trees. Jake Peer\, the Wildlife Specialist at Knox County Soil and Water\, will discuss the latest problems with Beech trees\, as well as the plight of our White Ash\, Walnut\, Hemlock trees and more.
LOCATION:Brown Family Environmental Center 9781 Laymon Road\, Gambier
UID:e.2893.3807
SEQUENCE:3
DTSTAMP:20260422T004911Z
URL:http://knoxchamber.smartcms.site/events/details/tree-diseases-3807
END:VEVENT

END:VCALENDAR
