BEGIN:VCALENDAR
VERSION:2.0
PRODID:-//ChamberMaster//Event Calendar 2.0//EN
METHOD:PUBLISH
X-PUBLISHED-TTL:P3D
REFRESH-INTERVAL:P3D
CALSCALE:GREGORIAN
BEGIN:VEVENT
DTSTART:20190817T140000Z
DTEND:20190817T160000Z
X-MICROSOFT-CDO-ALLDAYEVENT:FALSE
SUMMARY:Trap-Neuter-Return Seminar
DESCRIPTION:Join the Knox County Humane Society for this Trap-Neuter-Return Seminar to educate the public on the process and how it benefits the community. \n\nThis seminar has LIMITED space. If you are interested please call the shelter to reserve your seat today! 740-392-2287
X-ALT-DESC;FMTTYPE=text/html:Join the Knox County Humane Society for this Trap-Neuter-Return Seminar to educate the public on the process and how it benefits the community.&nbsp\;<br />\n<span style="display: inline !important\; float: none\; background-color: rgb(255\, 255\, 255)\; color: rgb(29\, 33\, 41)\; font-family: inherit\; font-size: 14px\; font-style: normal\; font-variant: normal\; font-weight: 400\; letter-spacing: normal\; orphans: 2\; text-align: left\; text-decoration: none\; text-indent: 0px\; text-transform: none\; -webkit-text-stroke-width: 0px\; white-space: pre-wrap\; word-spacing: 0px\;">This seminar has LIMITED space. If you are interested please call the shelter to reserve your seat today! 740-392-2287</span>
LOCATION:Knox County Chamber of Commerce\, 501 South Main Street\, Mount Vernon
UID:e.2893.4436
SEQUENCE:3
DTSTAMP:20260421T070301Z
URL:http://knoxchamber.smartcms.site/events/details/trap-neuter-return-seminar-4436
END:VEVENT

END:VCALENDAR
