BEGIN:VCALENDAR
VERSION:2.0
PRODID:-//ChamberMaster//Event Calendar 2.0//EN
METHOD:PUBLISH
X-PUBLISHED-TTL:P3D
REFRESH-INTERVAL:P3D
CALSCALE:GREGORIAN
BEGIN:VEVENT
DTSTART;VALUE=DATE:20191026
DTEND;VALUE=DATE:20191027
TRANSP:TRANSPARENT
X-MICROSOFT-CDO-ALLDAYEVENT:TRUE
SUMMARY:Trail City 4x4 Open House
DESCRIPTION:Following their Friday Ribbon Cutting\, Trail City will be holding an Open House on Saturday\, October 26.  All are invited and welcome!
X-ALT-DESC;FMTTYPE=text/html:Following their Friday Ribbon Cutting\, Trail City will be holding an Open House on Saturday\, October 26.&nbsp\; All are invited and welcome!&nbsp\;
LOCATION:311 West Gambier Street\, Mount Vernon
UID:e.2893.4644
SEQUENCE:3
DTSTAMP:20260421T053532Z
URL:http://knoxchamber.smartcms.site/events/details/trail-city-4x4-open-house-4644
END:VEVENT

END:VCALENDAR
