BEGIN:VCALENDAR
VERSION:2.0
PRODID:-//ChamberMaster//Event Calendar 2.0//EN
METHOD:PUBLISH
X-PUBLISHED-TTL:P3D
REFRESH-INTERVAL:P3D
CALSCALE:GREGORIAN
BEGIN:VEVENT
DTSTART:20170423T190000Z
DTEND:20170423T200000Z
X-MICROSOFT-CDO-ALLDAYEVENT:FALSE
SUMMARY:Tips for Women Starting or Growing a Business
DESCRIPTION:The number of woman-owned businesses are on the rise. In fact\, there are close to 10 million woman-owned businesses in the United States and the number is expected to grow. In honor of Women's History Month\, we are hosting a free webinar that covers the trends surrounding women and entrepreneurship. In this webinar\, you will learn:\n\n	Trends in women's entrepreneurship and why women entrepreneurs are important to the economy\n	SBA programs and services available to women entrepreneurs\n	Wrap up Q&A \n\nThursday\, March 23\, 2017\n\n3pm ET | Noon PT
X-ALT-DESC;FMTTYPE=text/html:<span style="color:#4E4D4E\;"><span style="font-family:helvetica\,sans-serif\;"><span style="font-size:10.5pt\;">The number of woman-owned businesses are on the rise. In fact\, there are close to 10 million woman-owned businesses in the United States and the number is expected to grow. In honor of Women&#39\;s History Month\, we are hosting a free webinar&nbsp\;that covers the trends surrounding women and entrepreneurship. In this webinar\, you will learn:</span></span></span>\n<ul>\n	<li style="color:#4E4D4E\;margin-left:0in\;line-height:12.75pt\;"><span style="font-family:helvetica\,sans-serif\;"><span style="font-size:10.5pt\;">Trends in women&rsquo\;s entrepreneurship and why women entrepreneurs are important to the economy</span></span></li>\n	<li style="color:#4E4D4E\;margin-left:0in\;line-height:12.75pt\;"><span style="font-family:helvetica\,sans-serif\;"><span style="font-size:10.5pt\;">SBA programs and services available to women entrepreneurs</span></span></li>\n	<li style="color:#4E4D4E\;margin-left:0in\;line-height:12.75pt\;"><span style="font-family:helvetica\,sans-serif\;"><span style="font-size:10.5pt\;">Wrap up Q&amp\;A&nbsp\;</span></span></li>\n</ul>\n<span style="color:#4E4D4E\;"><span style="font-family:helvetica\,sans-serif\;"><span style="font-size:10.5pt\;">Thursday\, March 23\, 2017</span></span></span><br />\n<span style="color:#4E4D4E\;"><span style="font-family:helvetica\,sans-serif\;"><span style="font-size:10.5pt\;">3pm ET | Noon PT</span></span></span><br />\n&nbsp\;
LOCATION:
UID:e.2893.1323
SEQUENCE:3
DTSTAMP:20260423T093926Z
URL:http://knoxchamber.smartcms.site/events/details/tips-for-women-starting-or-growing-a-business-1323
END:VEVENT

END:VCALENDAR
