BEGIN:VCALENDAR
VERSION:2.0
PRODID:-//ChamberMaster//Event Calendar 2.0//EN
METHOD:PUBLISH
X-PUBLISHED-TTL:P3D
REFRESH-INTERVAL:P3D
CALSCALE:GREGORIAN
BEGIN:VEVENT
DTSTART:20210827T233000Z
DTEND:20210828T020000Z
X-MICROSOFT-CDO-ALLDAYEVENT:FALSE
SUMMARY:The Ultimate McCartney Experience at Ariel-Foundation Park
DESCRIPTION:Ariel-Foundation Park welcomes the McCartney Project for "The Ultimate McCartney Experience" on Friday\, Aug. 27\, at 7:30 p.m. on the Schnormeier Event Center stage. KrisB's Midnight Railroad opens at 6 p.m. Reserved tables are sold out for this event but bring-your-own patio and lawn seating is free.  \n\n \n\nThe McCartney Project pays tribute to Paul McCartney and the music of Wings and The Beatles. Our authentic tribute begins with Tony Burlingame as Paul McCartney. Tony is a gifted left-handed bass player\, just like Paul. His bass playing\, vocals\, stage presence and even his authentic bass guitars combine to deliver the ultimate tribute to Paul McCartney. He is a genuine tribute artist and superb entertainer. Burlingame will have the audience fully engaged throughout the show! \n\n \n\nAdditional band members include Sara Reat\, vocals\, keyboards\, percussion and "our Linda"\; Phil Stearns\, drums and vocals\; Robb Anagnostis\, lead guitar\, keyboards\, vocals\, and music director\; Lar Wolkan\, guitar\, bass\, and keyboards. \n\n \n\nOpening act KrisB's Midnight Railroad was born out of a wave of several styles of music\, Very original rootsy rock-n-roll with incredible lead vocals and guitar accompanied by talented mandolin and tight arrangement of bass and banjo. This new Ohio sound is strengthened by fantastic vocals and writing ability of a very powerful singer. \n\n \n\nFood trucks open an hour prior to concert start time. A cash bar will be available. No alcohol\, other than that purchased on site\, will be allowed. Pets and smoking are prohibited in the event center and within the fenced area surrounding it. \n\n \n\nThis event is free thanks to our generous sponsors: Platinum level sponsors include Ariel Corporation\, Knox Community Hospital\, Knox County Foundation\, the Ohio Arts Council and National Endowment for the Arts\, and Park National Bank\; Gold level sponsors include Griffin Insurance\, KnoxPages\, Mount Vernon Grand Hotel\, Mount Vernon News\, Ohio Rental\, United way of Knox County\, WNZR 90.9 FM\, WQIO/WMVO\, and Gordy and Fran Yance\; Silver level sponsors include Allan Bazzoli M.D.\, Critchfield Critchfield & Johnston\, Delta Dental\, Brian howe Family Dentistry\, Kenyon College\, LeFurjah Family Fund\, Mortellaro McDonald's\, Southside Diner\, and White Castle\; Bronze level sponsors include Brenneman Lumber\, Gary and Carolyn Gray\, and Westie Productions.
X-ALT-DESC;FMTTYPE=text/html:<span style="color:black\;"><span style="font-family:arial\,sans-serif\;"><span style="font-size:12.0pt\;">Ariel-Foundation Park welcomes the McCartney Project for &ldquo\;The Ultimate McCartney Experience&rdquo\; on Friday\, Aug. 27\, at 7:30 p.m. on the Schnormeier Event Center stage. KrisB&rsquo\;s Midnight Railroad opens at 6 p.m. Reserved tables are sold out for this event but bring-your-own patio and lawn seating is free. &nbsp\;</span></span></span><br />\n&nbsp\;<br />\n<span style="color:black\;"><span style="font-family:arial\,sans-serif\;"><span style="font-size:12.0pt\;">The McCartney Project pays tribute to Paul McCartney and the music of Wings and The Beatles. Our authentic tribute begins with Tony Burlingame as Paul McCartney. Tony is a gifted left-handed bass player\, just like Paul. His bass playing\, vocals\, stage presence and even his authentic bass guitars combine to deliver the ultimate tribute to Paul McCartney. He is a genuine tribute artist and superb entertainer. Burlingame will have the audience fully engaged throughout the show!&nbsp\;</span></span></span><br />\n&nbsp\;<br />\n<span style="color:black\;"><span style="font-family:arial\,sans-serif\;"><span style="font-size:12.0pt\;">Additional band members include Sara Reat\, vocals\, keyboards\, percussion and &ldquo\;our Linda&rdquo\;\; Phil Stearns\, drums and vocals\; Robb Anagnostis\, lead guitar\, keyboards\, vocals\, and music director\; Lar Wolkan\, guitar\, bass\, and keyboards.&nbsp\;</span></span></span><br />\n&nbsp\;<br />\n<span style="color:black\;"><span style="font-family:arial\,sans-serif\;"><span style="font-size:12.0pt\;">Opening act KrisB&rsquo\;s Midnight Railroad was born out of a wave of several styles of music\, Very original rootsy rock-n-roll with incredible lead vocals and guitar accompanied by talented mandolin and tight arrangement of bass and banjo. This new Ohio sound is strengthened by fantastic vocals and writing ability of a very powerful singer.&nbsp\;</span></span></span><br />\n&nbsp\;<br />\n<span style="color:black\;"><span style="font-family:arial\,sans-serif\;"><span style="font-size:12.0pt\;">Food trucks open an hour prior to concert start time. A cash bar will be available. No alcohol\, other than that purchased on site\, will be allowed. Pets and smoking are prohibited in the event center and within the fenced area surrounding it.&nbsp\;</span></span></span><br />\n&nbsp\;<br />\n<span style="color:black\;"><span style="font-family:arial\,sans-serif\;"><span style="font-size:12.0pt\;">This event is free thanks to our generous sponsors: Platinum level sponsors include Ariel Corporation\, Knox Community Hospital\, Knox County Foundation\, the Ohio Arts Council and National Endowment for the Arts\, and Park National Bank\; Gold level sponsors include Griffin Insurance\, KnoxPages\, Mount Vernon Grand Hotel\, Mount Vernon News\, Ohio Rental\, United way of Knox County\, WNZR 90.9 FM\, WQIO/WMVO\, and Gordy and Fran Yance\; Silver level sponsors include Allan Bazzoli M.D.\, Critchfield Critchfield &amp\; Johnston\, Delta Dental\, Brian howe Family Dentistry\, Kenyon College\, LeFurjah Family Fund\, Mortellaro McDonald&rsquo\;s\, Southside Diner\, and White Castle\; Bronze level sponsors include Brenneman Lumber\, Gary and Carolyn Gray\, and Westie Productions.&nbsp\;</span></span></span><br />\n&nbsp\;
LOCATION:Ariel-Foundation Park
UID:e.2893.5000
SEQUENCE:3
DTSTAMP:20260419T162412Z
URL:http://knoxchamber.smartcms.site/events/details/the-ultimate-mccartney-experience-at-ariel-foundation-park-5000
END:VEVENT

END:VCALENDAR
