BEGIN:VCALENDAR
VERSION:2.0
PRODID:-//ChamberMaster//Event Calendar 2.0//EN
METHOD:PUBLISH
X-PUBLISHED-TTL:P3D
REFRESH-INTERVAL:P3D
CALSCALE:GREGORIAN
BEGIN:VEVENT
DTSTART:20190628T150000Z
DTEND:20190628T190000Z
X-MICROSOFT-CDO-ALLDAYEVENT:FALSE
SUMMARY:The Peoples Bank Customer Appreciation Day
DESCRIPTION:Join us for Food\, raffles\, and Fun for our Annual Customer Appreciation Day! Dog's of Knox will be joining us as well.
X-ALT-DESC;FMTTYPE=text/html:Join us for Food\, raffles\, and Fun for our Annual Customer Appreciation Day! Dog&#39\;s of Knox will be joining us as well.
LOCATION:103 East Wiggin St Gambier\, Ohio 43022
UID:e.2893.4348
SEQUENCE:3
DTSTAMP:20260421T103833Z
URL:http://knoxchamber.smartcms.site/events/details/the-peoples-bank-customer-appreciation-day-4348
END:VEVENT

END:VCALENDAR
