BEGIN:VCALENDAR
VERSION:2.0
PRODID:-//ChamberMaster//Event Calendar 2.0//EN
METHOD:PUBLISH
X-PUBLISHED-TTL:P3D
REFRESH-INTERVAL:P3D
CALSCALE:GREGORIAN
BEGIN:VEVENT
DTSTART:20180403T150000Z
DTEND:20180403T180000Z
X-MICROSOFT-CDO-ALLDAYEVENT:FALSE
SUMMARY:The Ohio State University at Newark and Central Ohio Technical College Career Fair
DESCRIPTION:The Ohio State University at Newark and Central Ohio Technical College will host a Career Fair Tuesday\, April 3\, 2018 from 11:00 a.m. until 2:00 p.m. within the Adena Gymnasium. Students from both institutions will attend the Career Fair to seek employment and internship opportunities.\n\n \n\nThe students and alumni from our institutions have broad-based and technically-focused academic foundations. This provides an occasion for employers to meet individuals from many disciplines at a single event.  Information concerning our programs of study can be viewed at www.newark.osu.edu and www.cotc.edu.\n\n \n\nCommunity members will have access to the event in partnership with OhioMeansJobs|Licking County.\n\n \n\nThe Career Fair is open to employers recruiting for existing or anticipated positions within their own organization.  You may wish to coordinate your exhibit with other departments in your organization interested in attending.  Registration is free and a light lunch will be provided.\n\n \n\nTo register\, please Click H ere and complete the registration form by Friday\, February 2\, 2018.  Space is limited and tables will be assigned as registrations are received.\n\n \n\nEach exhibitor will be provided with an eight-foot table and chairs.  Be sure to specify if your exhibit requires electricity as there are a limited number of electrical spaces.  Please let us know if we can assist with other logistical needs.  We hope that you can join us.
X-ALT-DESC;FMTTYPE=text/html:&nbsp\;<br />\nThe Ohio State University at Newark and Central Ohio Technical College will host a <strong>Career Fair</strong> Tuesday\, <strong>April 3\, </strong>2018 from 11:00 a.m. until 2:00 p.m. within the Adena Gymnasium. Students from both institutions will attend the Career Fair to seek employment and internship opportunities.<br />\n&nbsp\;<br />\nThe students and alumni from our institutions have broad-based and technically-focused academic foundations. This provides an occasion for employers to meet individuals from many disciplines at a single event.&nbsp\; Information concerning our programs of study can be viewed at <a href="http://www.newark.osu.edu">www.newark.osu.edu</a> and <a href="http://www.cotc.edu">www.cotc.edu</a>.<br />\n&nbsp\;<br />\nCommunity members will have access to the event in partnership with OhioMeansJobs|Licking County.<br />\n&nbsp\;<br />\nThe Career Fair is open to employers recruiting for existing or anticipated positions within their own organization.&nbsp\; You may wish to coordinate your exhibit with other departments in your organization interested in attending.&nbsp\; <strong>Registration is free</strong> and a light lunch will be provided.<br />\n&nbsp\;<br />\nTo register\, please <a href="http://www.surveygizmo.com/s3/4012002/Registration-for-Newark-Campus-Career-Fair-2018"><strong><span style="color:blue\;">Click H&#8203\;ere</span></strong></a>&nbsp\;and complete the registration form by Friday\, <strong>February 2\,</strong> 2018. &nbsp\;Space is limited and tables will be assigned as registrations are received.<br />\n&nbsp\;<br />\nEach exhibitor will be provided with an eight-foot table and chairs.&nbsp\; Be sure to specify if your exhibit requires electricity as there are a limited number of electrical spaces.&nbsp\; Please let us know if we can assist with other logistical needs.&nbsp\; We hope that you can join us.
LOCATION:
UID:e.2893.2561
SEQUENCE:3
DTSTAMP:20260422T105900Z
URL:http://knoxchamber.smartcms.site/events/details/the-ohio-state-university-at-newark-and-central-ohio-technical-college-career-fair-2561
END:VEVENT

END:VCALENDAR
