BEGIN:VCALENDAR
VERSION:2.0
PRODID:-//ChamberMaster//Event Calendar 2.0//EN
METHOD:PUBLISH
X-PUBLISHED-TTL:P3D
REFRESH-INTERVAL:P3D
CALSCALE:GREGORIAN
BEGIN:VEVENT
DTSTART:20171209T000000Z
DTEND:20171209T010000Z
X-MICROSOFT-CDO-ALLDAYEVENT:FALSE
SUMMARY:The Night Sky
DESCRIPTION:Meet at the BFEC Farmhouse. Admire the season's constellations as you listen to Professor Tim Shutt tell mythological stories about the stars. Weather permitting\; will be cancelled if it's too cloudy. Call the BFEC for program status.
X-ALT-DESC;FMTTYPE=text/html:Meet at the BFEC Farmhouse. Admire the season&rsquo\;s constellations as you listen to Professor Tim Shutt tell mythological stories about the stars. Weather permitting\; will be cancelled if it&rsquo\;s too cloudy. Call the BFEC for program status.
LOCATION:Brown Family Environmental Center
UID:e.2893.2504
SEQUENCE:3
DTSTAMP:20260422T191501Z
URL:http://knoxchamber.smartcms.site/events/details/the-night-sky-2504
END:VEVENT

END:VCALENDAR
