BEGIN:VCALENDAR
VERSION:2.0
PRODID:-//ChamberMaster//Event Calendar 2.0//EN
METHOD:PUBLISH
X-PUBLISHED-TTL:P3D
REFRESH-INTERVAL:P3D
CALSCALE:GREGORIAN
BEGIN:VEVENT
DTSTART:20171004T213000Z
DTEND:20171004T233000Z
X-MICROSOFT-CDO-ALLDAYEVENT:FALSE
SUMMARY:The Mount Vernon Downtown Plan Workshop
DESCRIPTION:Please join us for an interactive evening of learning and ideas. We want to know your vision for the future of Downtown Mount Vernon.\n\n\n\nWe're developing a vision for the future of Downtown Mount Vernon and we need your help! Come give us your ideas for the future of Downtown Mount Vernon. \n\n\n\nCan't attend? We've got you covered. Visit us online to provide input:www.MountVernonDowntownPlan.com\n\n\n\n"A hundred years after we are gone and forgotten\, those who never heard of us will be living with the results of our actions." - Oliver Wendell Holmes
X-ALT-DESC;FMTTYPE=text/html:<span style="color: rgb(75\, 79\, 86)\; font-family: Helvetica\, Arial\, sans-serif\; font-size: 14px\;">Please join us for an interactive evening of learning and ideas. We want to know your vision for the future of Downtown Mount Vernon.</span><br style="color: rgb(75\, 79\, 86)\; font-family: Helvetica\, Arial\, sans-serif\; font-size: 14px\;" />\n<br style="color: rgb(75\, 79\, 86)\; font-family: Helvetica\, Arial\, sans-serif\; font-size: 14px\;" />\n<span style="color: rgb(75\, 79\, 86)\; font-family: Helvetica\, Arial\, sans-serif\; font-size: 14px\;">We&#39\;re developing a vision for the future of Downtown Mount Vernon and we need your help! Come give us your ideas for the future of Downtown Mount Vernon.&nbsp\;</span><br style="color: rgb(75\, 79\, 86)\; font-family: Helvetica\, Arial\, sans-serif\; font-size: 14px\;" />\n<br style="color: rgb(75\, 79\, 86)\; font-family: Helvetica\, Arial\, sans-serif\; font-size: 14px\;" />\n<span style="color: rgb(75\, 79\, 86)\; font-family: Helvetica\, Arial\, sans-serif\; font-size: 14px\;">Can&#39\;t attend? We&#39\;ve got you covered. Visit us online to provide input:</span><a data-lynx-mode="async" href="https://l.facebook.com/l.php?u=http%3A%2F%2Fwww.MountVernonDowntownPlan.com%2F&amp\;h=ATOIAG53tjq8aV89G80ZCaRlQsS3KphEdZVoW_rQFig4Z9zXuSicQe6yCwWMTV1AiXHaIYB0O41OxhNnxuay917PDuQnzHoUEEZRZ-CXyMH1NHC260GKpUHohRfOoc2moRW-D6TmCNbOLGfc81bb11Xuwxs_ubkPRvJP7FxJb0PcJg" rel="noopener nofollow" style="color: rgb(54\, 88\, 153)\; cursor: pointer\; text-decoration-line: none\; font-family: Helvetica\, Arial\, sans-serif\; font-size: 14px\;" target="_blank"><span style="font-family: inherit\;">www.MountVernonDowntownPla</span><wbr />n.com</a><br style="color: rgb(75\, 79\, 86)\; font-family: Helvetica\, Arial\, sans-serif\; font-size: 14px\;" />\n<br style="color: rgb(75\, 79\, 86)\; font-family: Helvetica\, Arial\, sans-serif\; font-size: 14px\;" />\n<span style="color: rgb(75\, 79\, 86)\; font-family: Helvetica\, Arial\, sans-serif\; font-size: 14px\;">&quot\;A hundred years after we are gone and forgotten\, those who never heard of us will be living with the results of our actions.&quot\; - Oliver Wendell Holmes</span>
LOCATION:The Ballroom at the Memorial Building 112 East High Street\, Mount Vernon
UID:e.2893.2499
SEQUENCE:3
DTSTAMP:20260422T225618Z
URL:http://knoxchamber.smartcms.site/events/details/the-mount-vernon-downtown-plan-workshop-2499
END:VEVENT

END:VCALENDAR
