BEGIN:VCALENDAR
VERSION:2.0
PRODID:-//ChamberMaster//Event Calendar 2.0//EN
METHOD:PUBLISH
X-PUBLISHED-TTL:P3D
REFRESH-INTERVAL:P3D
CALSCALE:GREGORIAN
BEGIN:VEVENT
DTSTART:20170805T200000Z
DTEND:20170806T020000Z
X-MICROSOFT-CDO-ALLDAYEVENT:FALSE
SUMMARY:The Local Show
DESCRIPTION:Summer is just around the corner and The Foundation for KCH is pleased to announce a new event called THE LOCAL SHOW. Fresh craft brews\, smoky BBQ\, and spirited music will be the order of the day on Saturday\, August 5 at Ariel-Foundation Park. This event will highlight our summer season\, and we hope you'll join us not only for the fun\, food\, and brews\, but to help us raise funds for new equipment for KCH's Birthing Center.
X-ALT-DESC;FMTTYPE=text/html:Summer is just around the corner and The Foundation for KCH is pleased to announce a new event called THE LOCAL SHOW. Fresh craft brews\, smoky BBQ\, and spirited music will be the order of the day on Saturday\, August 5 at Ariel-Foundation Park. This event will highlight our summer season\, and we hope you&#39\;ll join us&mdash\;not only for the fun\, food\, and brews\, but to help us raise funds for new equipment for KCH&#39\;s Birthing Center.
LOCATION:Community Foundation Pavilion at Ariel- Foundation Park
UID:e.2893.1393
SEQUENCE:3
DTSTAMP:20260423T023725Z
URL:http://knoxchamber.smartcms.site/events/details/the-local-show-1393
END:VEVENT

END:VCALENDAR
