BEGIN:VCALENDAR
VERSION:2.0
PRODID:-//ChamberMaster//Event Calendar 2.0//EN
METHOD:PUBLISH
X-PUBLISHED-TTL:P3D
REFRESH-INTERVAL:P3D
CALSCALE:GREGORIAN
BEGIN:VEVENT
DTSTART:20180207T210000Z
DTEND:20180207T230000Z
X-MICROSOFT-CDO-ALLDAYEVENT:FALSE
SUMMARY:The Laurels and Kindred Hospice Open House
DESCRIPTION:The Laurels Memory Care Neighborhood Open House\n\n13 Avalon Road\, Mount Vernon\n\n4:00pm to 4:30 registration & Hor D'oeuvre's\n\n4:30pm to 5:00pm Dr. Mark Buddie\, MD\n\n5:00pm to 6:00pm - "Alzheimer's and Related Disorders"
X-ALT-DESC;FMTTYPE=text/html:The Laurels Memory Care Neighborhood Open House<br />\n13 Avalon Road\, Mount Vernon<br />\n4:00pm to 4:30 registration &amp\; Hor D&#39\;oeuvre&#39\;s<br />\n4:30pm to 5:00pm&nbsp\;Dr. Mark Buddie\, MD<br />\n5:00pm to 6:00pm&nbsp\;- &quot\;Alzheimer&#39\;s and Related Disorders&quot\;&nbsp\;<br />\n&nbsp\;
LOCATION:
UID:e.2893.2588
SEQUENCE:3
DTSTAMP:20260422T142205Z
URL:http://knoxchamber.smartcms.site/events/details/the-laurels-and-kindred-hospice-open-house-2588
END:VEVENT

END:VCALENDAR
