BEGIN:VCALENDAR
VERSION:2.0
PRODID:-//ChamberMaster//Event Calendar 2.0//EN
METHOD:PUBLISH
X-PUBLISHED-TTL:P3D
REFRESH-INTERVAL:P3D
CALSCALE:GREGORIAN
BEGIN:VEVENT
DTSTART:20181110T130000Z
DTEND:20181110T150000Z
X-MICROSOFT-CDO-ALLDAYEVENT:FALSE
SUMMARY:The Gold Rush 5k and .5k
DESCRIPTION:To celebrate their 50th anniversary\, Mount Vernon Nazarene University is hosting a 5k run/ walk\, as well as a .5k snack walk.  The Gold Rush 5K and .5K proceeds go to benefiting the Knox County Food for the Hungry drive. \n\n\n\nEach Participant will receive a t-shirt(pre-registration required to guarantee shirt).  Medals will be distributed to 5k winners in each age group and every .5 k participant will receive special golden treats!
X-ALT-DESC;FMTTYPE=text/html:To celebrate their 50th anniversary\, <span style="color:#B22222\;"><em>Mount Vernon Nazarene University</em></span> is hosting a 5k run/ walk\, as well as a .5k snack walk.&nbsp\; The Gold Rush 5K and .5K proceeds go to benefiting the Knox County Food for the Hungry drive.&nbsp\;<br />\n<br />\nEach Participant will receive a t-shirt(pre-registration required to guarantee shirt).&nbsp\; Medals will be distributed to 5k winners in each age group and every .5 k participant will receive special golden treats!&nbsp\;&nbsp\;
LOCATION:R.R. Hodges Chapel\, Mount Vernon Nazarene University 800 Martinsburg Road
UID:e.2893.3823
SEQUENCE:3
DTSTAMP:20260421T232038Z
URL:http://knoxchamber.smartcms.site/events/details/the-gold-rush-5k-and-5k-3823
END:VEVENT

END:VCALENDAR
