BEGIN:VCALENDAR
VERSION:2.0
PRODID:-//ChamberMaster//Event Calendar 2.0//EN
METHOD:PUBLISH
X-PUBLISHED-TTL:P3D
REFRESH-INTERVAL:P3D
CALSCALE:GREGORIAN
BEGIN:VEVENT
DTSTART:20190404T230000Z
DTEND:20190405T010000Z
X-MICROSOFT-CDO-ALLDAYEVENT:FALSE
SUMMARY:The Buckeye Trail: Hike Ohio!
DESCRIPTION:Meet at the BFEC Resource Center. Pam Leonard celebrated her 50th birthday by taking a little hike   1\,442 miles - a hike that circled Ohio. The Buckeye Trail\, founded by Grandma Gatewood\, is a nationally recognized loop trail highlighting much of Ohio's rural beauty. Pam is one of the few women to have completed the entire trail. Join Pam and representatives of the Buckeye Trail to learn more about the trail and to hear some of Pam's tales from the trail.
X-ALT-DESC;FMTTYPE=text/html:Meet at the BFEC Resource Center. Pam Leonard celebrated her 50th birthday by taking a little hike &ndash\; 1\,442 miles - a hike that circled Ohio. The Buckeye Trail\, founded by Grandma Gatewood\, is a nationally recognized loop trail highlighting much of Ohio&rsquo\;s rural beauty. Pam is one of the few women to have completed the entire trail. Join Pam and representatives of the Buckeye Trail to learn more about the trail and to hear some of Pam&rsquo\;s tales from the trail.
LOCATION:Brown Family Environmental Center 9871 Laymon Road. Gambier\, Ohio 43022
UID:e.2893.3866
SEQUENCE:3
DTSTAMP:20260421T164800Z
URL:http://knoxchamber.smartcms.site/events/details/the-buckeye-trail-hike-ohio-3866
END:VEVENT

END:VCALENDAR
