BEGIN:VCALENDAR
VERSION:2.0
PRODID:-//ChamberMaster//Event Calendar 2.0//EN
METHOD:PUBLISH
X-PUBLISHED-TTL:P3D
REFRESH-INTERVAL:P3D
CALSCALE:GREGORIAN
BEGIN:VEVENT
DTSTART:20170414T160000Z
DTEND:20170415T160000Z
X-MICROSOFT-CDO-ALLDAYEVENT:FALSE
SUMMARY:The Alcove Dinner Theatere
DESCRIPTION:The Alcove Restaurant & Lounge is excited to announce the first dinner theatre at the newly remodeled Alcove Restaurant. Join them for "Over the River and through The Woods"\, directed and produced by Bruce Jacklin & Company.\n\nPerformance Dates:\n\nApril 14-15\n\nApril 21-22\n\nApril 28-29\n\n\nClick the link below to purchase your tickets:\n\nhttps://tickets.vendini.com/ticket-software.html?t=tix&w=37ff1534853a3f13d87088aa60c47013&vqitq=f86634f2-db15-492e-8c53-3320615dbe2a&vqitp=34b96b19-959d-4f70-b99d-ee914099cdfc&vqitts=1491831524&vqitc=vendini&vqite=itl&vqitrt=Safetynet&vqith=569dd3835e52fba998ab89dae089840a
X-ALT-DESC;FMTTYPE=text/html:<p style="margin: 0px 0px 6px\; font-family: Helvetica\, Arial\, sans-serif\; color: rgb(29\, 33\, 41)\; font-size: 14px\;">The Alcove Restaurant &amp\; Lounge is excited to announce the first dinner theatre at the newly remodeled Alcove Restaurant. Join them for &quot\;Over the River and through The Woods&quot\;\, directed and produced by Bruce Jacklin &amp\; Company.</p>\n\n<p style="margin: 6px 0px\; font-family: Helvetica\, Arial\, sans-serif\; color: rgb(29\, 33\, 41)\; font-size: 14px\;">Performance Dates:<br />\nApril 14-15<br />\nApril 21-22<br />\n<span class="text_exposed_show" style="display: inline\; font-family: inherit\;">April 28-29</span></p>\n\n<div class="text_exposed_show" style="display: inline\; font-family: Helvetica\, Arial\, sans-serif\; color: rgb(29\, 33\, 41)\; font-size: 14px\;">\n<p style="margin: 0px 0px 6px\; font-family: inherit\;">Click the link below to purchase your tickets:<br />\n<a href="https://tickets.vendini.com/ticket-software.html?t=tix&amp\;w=37ff1534853a3f13d87088aa60c47013&amp\;vqitq=f86634f2-db15-492e-8c53-3320615dbe2a&amp\;vqitp=34b96b19-959d-4f70-b99d-ee914099cdfc&amp\;vqitts=1491831524&amp\;vqitc=vendini&amp\;vqite=itl&amp\;vqitrt=Safetynet&amp\;vqith=569dd3835e52fba998ab89dae089840a">https://tickets.vendini.com/ticket-software.html?t=tix&amp\;w=37ff1534853a3f13d87088aa60c47013&amp\;vqitq=f86634f2-db15-492e-8c53-3320615dbe2a&amp\;vqitp=34b96b19-959d-4f70-b99d-ee914099cdfc&amp\;vqitts=1491831524&amp\;vqitc=vendini&amp\;vqite=itl&amp\;vqitrt=Safetynet&amp\;vqith=569dd3835e52fba998ab89dae089840a</a></p>\n</div>\n
LOCATION:
UID:e.2893.1358
SEQUENCE:3
DTSTAMP:20260423T112426Z
URL:http://knoxchamber.smartcms.site/events/details/the-alcove-dinner-theatere-1358
END:VEVENT

END:VCALENDAR
