BEGIN:VCALENDAR
VERSION:2.0
PRODID:-//ChamberMaster//Event Calendar 2.0//EN
METHOD:PUBLISH
X-PUBLISHED-TTL:P3D
REFRESH-INTERVAL:P3D
CALSCALE:GREGORIAN
BEGIN:VEVENT
DTSTART:20180327T230000Z
DTEND:20180328T010000Z
X-MICROSOFT-CDO-ALLDAYEVENT:FALSE
SUMMARY:Tavern Trivia
DESCRIPTION:Join Millennial Mount Vernon and the fine folks at Parkside Restaurant and Tavern for a night of trivia on Tuesday\, March 27th\, from 7pm to 9pm!\n\nEnjoy drink and appetizer specials\, hilarious team names\, and compete for the big prize: gift cards and bragging rights! \n\nBring your friends! \n\nAll are welcome! You don't have to be a millennial to play!
X-ALT-DESC;FMTTYPE=text/html:<span style="color: rgb(75\, 79\, 86)\; font-family: Helvetica\, Arial\, sans-serif\; font-size: 14px\;">Join Millennial Mount Vernon and the fine folks at Parkside Restaurant and Tavern for a night of trivia on Tuesday\, March 27th\, from 7pm to 9pm!</span><br style="color: rgb(75\, 79\, 86)\; font-family: Helvetica\, Arial\, sans-serif\; font-size: 14px\;" />\n<span style="color: rgb(75\, 79\, 86)\; font-family: Helvetica\, Arial\, sans-serif\; font-size: 14px\;">Enjoy drink and appetizer specials\, hilarious team names\, and compete for the big prize: gift cards and bragging rights!&nbsp\;</span><br style="color: rgb(75\, 79\, 86)\; font-family: Helvetica\, Arial\, sans-serif\; font-size: 14px\;" />\n<span style="color: rgb(75\, 79\, 86)\; font-family: Helvetica\, Arial\, sans-serif\; font-size: 14px\;">Bring your friends!&nbsp\;</span><br style="color: rgb(75\, 79\, 86)\; font-family: Helvetica\, Arial\, sans-serif\; font-size: 14px\;" />\n<span style="color: rgb(75\, 79\, 86)\; font-family: Helvetica\, Arial\, sans-serif\; font-size: 14px\;">All are welcome! You don&#39\;t have to be a millennial to play!</span>
LOCATION:The Parkside Restaurant & Tavern 108 Mt. Vernon Avenue Mount Vernon\, Ohio
UID:e.2893.3623
SEQUENCE:3
DTSTAMP:20260422T123437Z
URL:http://knoxchamber.smartcms.site/events/details/tavern-trivia-3623
END:VEVENT

END:VCALENDAR
