BEGIN:VCALENDAR
VERSION:2.0
PRODID:-//ChamberMaster//Event Calendar 2.0//EN
METHOD:PUBLISH
X-PUBLISHED-TTL:P3D
REFRESH-INTERVAL:P3D
CALSCALE:GREGORIAN
BEGIN:VEVENT
DTSTART:20190803T180000Z
DTEND:20190803T200000Z
X-MICROSOFT-CDO-ALLDAYEVENT:FALSE
SUMMARY:Taste of Nature: Jams & Jellies
DESCRIPTION:Back by popular demand! Kathy Dean-Ridenour will teach us how to make jams and jellies using local berries. Everyone will make a batch to take home with them\, and we will have several varieties for tasting. Kathy has been a backyard forager and garden grazer for many years. Space is limited - call now to reserve your seat! 740-427-5052. Materials fee $10. Meet in the BFEC Resource Center.
X-ALT-DESC;FMTTYPE=text/html:Back by popular demand! Kathy Dean-Ridenour will teach us how to make jams and jellies using local berries. Everyone will make a batch to take home with them\, and we will have several varieties for tasting. Kathy has been a backyard forager and garden grazer for many years. Space is limited - call now to reserve your seat! 740-427-5052. Materials fee $10. Meet in the BFEC Resource Center.
LOCATION:Brown Family Environmental Cener
UID:e.2893.4359
SEQUENCE:3
DTSTAMP:20260421T085925Z
URL:http://knoxchamber.smartcms.site/events/details/taste-of-nature-jams-jellies-4359
END:VEVENT

END:VCALENDAR
