BEGIN:VCALENDAR
VERSION:2.0
PRODID:-//ChamberMaster//Event Calendar 2.0//EN
METHOD:PUBLISH
X-PUBLISHED-TTL:P3D
REFRESH-INTERVAL:P3D
CALSCALE:GREGORIAN
BEGIN:VEVENT
DTSTART:20170325T170000Z
DTEND:20170325T200000Z
X-MICROSOFT-CDO-ALLDAYEVENT:FALSE
SUMMARY:Surviving the Wild\, Part 1: Backpacking 101
DESCRIPTION:Venturing into the backcountry can be amazing...or miserable if you're not prepared. During this workshop you will learn what to pack for trips of various lengths\, how to assemble a proper first aid kit\, how to load your pack for comfort and efficiency\, and how to keep critters out of your food. We will also review water sanitation techniques\, boot selection\, and physical training for your trip. You will get a chance to carry a fully loaded pack to see how it feels. Bring along your own gear so you can customize your kit\, or borrow our equipment for the afternoon.
X-ALT-DESC;FMTTYPE=text/html:Venturing into the backcountry can be amazing...or miserable if you&rsquo\;re not prepared. During this workshop you will learn what to pack for trips of various lengths\, how to assemble a proper first aid kit\, how to load your pack for comfort and efficiency\, and how to keep critters out of your food. We will also review water sanitation techniques\, boot selection\, and physical training for your trip. You will get a chance to carry a fully loaded pack to see how it feels. Bring along your own gear so you can customize your kit\, or borrow our equipment for the afternoon.
LOCATION:
UID:e.2893.963
SEQUENCE:3
DTSTAMP:20260423T112330Z
URL:http://knoxchamber.smartcms.site/events/details/surviving-the-wild-part-1-backpacking-101-963
END:VEVENT

END:VCALENDAR
