BEGIN:VCALENDAR
VERSION:2.0
PRODID:-//ChamberMaster//Event Calendar 2.0//EN
METHOD:PUBLISH
X-PUBLISHED-TTL:P3D
REFRESH-INTERVAL:P3D
CALSCALE:GREGORIAN
BEGIN:VEVENT
DTSTART:20190802T233000Z
DTEND:20190803T013000Z
X-MICROSOFT-CDO-ALLDAYEVENT:FALSE
SUMMARY:Sunset In The Park
DESCRIPTION:Enjoy the perfect summer evening! Intimate tickets event with music by the Knox County Jazz Syndicate\, featuring Joe Jancura on piano\, Ted Buehrer on trumpet\, Jim Frady on trombone\, Andrew Clarkson on bass\, Chris Miller on drums and Alison Cline on vocals. Admission includes one drink\, evening appetizers\, and entertainment. Proceeds to benefit the ongoing development of the wildflower gardens at Ariel-Foundation Park.
X-ALT-DESC;FMTTYPE=text/html:Enjoy the perfect summer evening! Intimate tickets event with music by the Knox County Jazz Syndicate\, featuring Joe Jancura on piano\, Ted Buehrer on trumpet\, Jim Frady on trombone\, Andrew Clarkson on bass\, Chris Miller on drums and Alison Cline on vocals. Admission includes one drink\, evening appetizers\, and entertainment. Proceeds to benefit the ongoing development of the wildflower gardens at Ariel-Foundation Park.
LOCATION:Ariel-Foundation Park
UID:e.2893.4365
SEQUENCE:3
DTSTAMP:20260421T070442Z
URL:http://knoxchamber.smartcms.site/events/details/sunset-in-the-park-4365
END:VEVENT

END:VCALENDAR
