BEGIN:VCALENDAR
VERSION:2.0
PRODID:-//ChamberMaster//Event Calendar 2.0//EN
METHOD:PUBLISH
X-PUBLISHED-TTL:P3D
REFRESH-INTERVAL:P3D
CALSCALE:GREGORIAN
BEGIN:VEVENT
DTSTART:20210211T190000Z
DTEND:20210211T200000Z
X-MICROSOFT-CDO-ALLDAYEVENT:FALSE
SUMMARY:Storm Water Pollution Prevention Plan
DESCRIPTION:Click here for all of the details on this webinar!
X-ALT-DESC;FMTTYPE=text/html:<strong><a href="https://chambermaster.blob.core.windows.net/userfiles/UserFiles/chambers/2893/File/Webinar-PreparingaStormWaterPollutionPreventionPlan.pdf">Click here for all of the details on this webinar!</a></strong>
LOCATION:Virtual
UID:e.2893.4828
SEQUENCE:3
DTSTAMP:20260420T043410Z
URL:http://knoxchamber.smartcms.site/events/details/storm-water-pollution-prevention-plan-4828
END:VEVENT

END:VCALENDAR
