BEGIN:VCALENDAR
VERSION:2.0
PRODID:-//ChamberMaster//Event Calendar 2.0//EN
METHOD:PUBLISH
X-PUBLISHED-TTL:P3D
REFRESH-INTERVAL:P3D
CALSCALE:GREGORIAN
BEGIN:VEVENT
DTSTART:20190209T000000Z
DTEND:20190209T020000Z
X-MICROSOFT-CDO-ALLDAYEVENT:FALSE
SUMMARY:Stories from the Stars
DESCRIPTION:Meet at the BFEC Resource Center. Admire the season's constellations as you listen to Professor Tim Shutt tell mythological stories about the stars. Weather permitting\; will be cancelled if it's too cloudy. Call the BFEC for program status.
X-ALT-DESC;FMTTYPE=text/html:Meet at the BFEC Resource Center. Admire the season&rsquo\;s constellations as you listen to Professor Tim Shutt tell mythological stories about the stars. Weather permitting\; will be cancelled if it&rsquo\;s too cloudy. Call the BFEC for program status.
LOCATION:Brown Family Environmental Center 9781 Laymon Road. Gambier\, Ohio 43022
UID:e.2893.3862
SEQUENCE:3
DTSTAMP:20260421T182600Z
URL:http://knoxchamber.smartcms.site/events/details/stories-from-the-stars-3862
END:VEVENT

END:VCALENDAR
