BEGIN:VCALENDAR
VERSION:2.0
PRODID:-//ChamberMaster//Event Calendar 2.0//EN
METHOD:PUBLISH
X-PUBLISHED-TTL:P3D
REFRESH-INTERVAL:P3D
CALSCALE:GREGORIAN
BEGIN:VEVENT
DTSTART:20180823T223000Z
DTEND:20180824T003000Z
X-MICROSOFT-CDO-ALLDAYEVENT:FALSE
SUMMARY:Stem Cell Seminar
DESCRIPTION:Stem Cell Seminar\n\nReserve your seat!\n\nCome Hear about how others have improved thier quility of life!\n\nCall Now!! 740-302-1407
X-ALT-DESC;FMTTYPE=text/html:Stem Cell Seminar<br />\nReserve your seat!<br />\nCome Hear about how others have improved thier quility of life!<br />\nCall Now!! 740-302-1407
LOCATION:Swetlic Intergrated Center JAS MEdiccal 11301 Upper Gilchrist Rd Mount Vernon\, OH
UID:e.2893.3774
SEQUENCE:3
DTSTAMP:20260422T043736Z
URL:http://knoxchamber.smartcms.site/events/details/stem-cell-seminar-3774
END:VEVENT

END:VCALENDAR
