BEGIN:VCALENDAR
VERSION:2.0
PRODID:-//ChamberMaster//Event Calendar 2.0//EN
METHOD:PUBLISH
X-PUBLISHED-TTL:P3D
REFRESH-INTERVAL:P3D
CALSCALE:GREGORIAN
BEGIN:VEVENT
DTSTART:20171007T151500Z
DTEND:20171007T160000Z
X-MICROSOFT-CDO-ALLDAYEVENT:FALSE
SUMMARY:Starting Point Open House
DESCRIPTION:Starting Point will be having an Open House on Saturday\, October 7th from11:15am to 12:00pm in celebration of their newly remodeled building. Stop in and check it out!
X-ALT-DESC;FMTTYPE=text/html:Starting Point will be having an Open House on Saturday\, October 7th from11:15am to 12:00pm in celebration of their newly remodeled building. Stop in and check it out!&nbsp\;
LOCATION:
UID:e.2893.1467
SEQUENCE:3
DTSTAMP:20260422T211247Z
URL:http://knoxchamber.smartcms.site/events/details/starting-point-open-house-1467
END:VEVENT

END:VCALENDAR
