BEGIN:VCALENDAR
VERSION:2.0
PRODID:-//ChamberMaster//Event Calendar 2.0//EN
METHOD:PUBLISH
X-PUBLISHED-TTL:P3D
REFRESH-INTERVAL:P3D
CALSCALE:GREGORIAN
BEGIN:VEVENT
DTSTART:20170425T220000Z
DTEND:20170426T010000Z
X-MICROSOFT-CDO-ALLDAYEVENT:FALSE
SUMMARY:Spring & Song
DESCRIPTION:Spring and Song
X-ALT-DESC;FMTTYPE=text/html:Spring and Song<br />\n&nbsp\;
LOCATION:Gund Commons\, Kenyon College
UID:e.2893.1341
SEQUENCE:3
DTSTAMP:20260423T110628Z
URL:http://knoxchamber.smartcms.site/events/details/spring-song-1341
END:VEVENT

END:VCALENDAR
