BEGIN:VCALENDAR
VERSION:2.0
PRODID:-//ChamberMaster//Event Calendar 2.0//EN
METHOD:PUBLISH
X-PUBLISHED-TTL:P3D
REFRESH-INTERVAL:P3D
CALSCALE:GREGORIAN
BEGIN:VEVENT
DTSTART:20181117T190000Z
DTEND:20181117T210000Z
X-MICROSOFT-CDO-ALLDAYEVENT:FALSE
SUMMARY:Southern Scramble
DESCRIPTION:Meet at the BFEC Resource Center. Join the BFEC's newest employee\, Maddie Morgan\, to hike the Fern Trail - one of the highlights of our trail system south of 229. Maddie will talk about the trail's history\, design\, flora and fauna as we wind up and around the Pine Plantation and then back down again to parallel the Gap Trail. This is a moderately challenging 1 mile hike.
X-ALT-DESC;FMTTYPE=text/html:Meet at the<span style="color:#800000\;"><em> BFEC Resource Center</em></span>. Join the BFEC&rsquo\;s newest employee\, Maddie Morgan\, to hike the Fern Trail - one of the highlights of our trail system south of 229. Maddie will talk about the trail&rsquo\;s history\, design\, flora and fauna as we wind up and around the Pine Plantation and then back down again to parallel the Gap Trail. This is a moderately challenging 1 mile hike.
LOCATION:Brown Family Environmental Canter 9781 Laymon Road\, Gambier
UID:e.2893.3806
SEQUENCE:3
DTSTAMP:20260422T005015Z
URL:http://knoxchamber.smartcms.site/events/details/southern-scramble-3806
END:VEVENT

END:VCALENDAR
